BEGIN:VCALENDAR
VERSION:2.0
PRODID:-//Octubre Centre de Cultura Contemporània - ECPv5.1.6//NONSGML v1.0//EN
CALSCALE:GREGORIAN
METHOD:PUBLISH
X-WR-CALNAME:Octubre Centre de Cultura Contemporània
X-ORIGINAL-URL:https://octubre.cat
X-WR-CALDESC:Events for Octubre Centre de Cultura Contemporània
BEGIN:VTIMEZONE
TZID:Europe/Andorra
BEGIN:DAYLIGHT
TZOFFSETFROM:+0100
TZOFFSETTO:+0200
TZNAME:CEST
DTSTART:20140330T010000
END:DAYLIGHT
BEGIN:STANDARD
TZOFFSETFROM:+0200
TZOFFSETTO:+0100
TZNAME:CET
DTSTART:20141026T010000
END:STANDARD
END:VTIMEZONE
BEGIN:VEVENT
DTSTART;TZID=Europe/Andorra:20140121T173000
DTEND;TZID=Europe/Andorra:20140121T173000
DTSTAMP:20260422T034600
CREATED:20200729T170318Z
LAST-MODIFIED:20200729T184334Z
UID:9687-1390325400-1390325400@octubre.cat
SUMMARY:Presentació del llibre 'Un esforç més'
DESCRIPTION:Dimarts 21 de gener a les 17.30h. Amb Marina Garcés\, del col·lectiu Espai en Blanc  \n  \n  \n\n Pel col·lectiu Espai en Blanc\, editat per Edicions Bellaterra.  Un llibre sobre l’obertura d’un nou món que ja està en aquest.  Aquest llibre està fonamentat en la Diversitat de veus\, no com a una postura comuna davant la qüestió de la independència de Catalunya\, ni una solució ràpida i automàtica per a poder clausurar un problema massa perillós. Però sí com un reprendre una qüestió incòmoda: com viure junts dignament?  Ara i ací des de les ‘Valències’ volem pensar junts sense caure en obvietats i buscar una politització que no es recolze en allò donat\, sinó que vulga anar més lluny i obrir-se pas a experimentar altres formes de viure junts; que és la proposta d’aquest treball.  Des de la diversitat de veus volem saber si podem fer força de d’allò que ens separa i obrir (experimentar) altres formes de viure junts.  Amb Marina Garcés\, del col·lectiu Espai en Blanc\, estaran:  David Barberà (revista Bostezo)\, Guillem Bell Tornado (artista\, agitador cultural i polític)\, Núria Cadenes (periodista i llibretera)\, Eva Caro (gestora i agent cultural)\, Marc Delcan (Eclèctica Estudis Culturals)\, Vicent Flor (sociòleg\, UV)\, David Muñoz (sociòleg\, UV)\, Raul Omar (artista)\, Carles Senso (llicenciat en Geografia i Història i periodista)\, Rafael Tormo i Cuenca (artista i productor cultural)\, Rosa Ulpiano (crítica d’art i comissària independent)
URL:https://octubre.cat/activitat/presentacio-del-llibre-un-esforc-mes/
LOCATION:Llibreria 3i4
CATEGORIES:Literatura
ATTACH;FMTTYPE=image/jpeg:https://octubre.cat/www/wp-content/uploads/2020/07/activitat1979.jpg
END:VEVENT
END:VCALENDAR