BEGIN:VCALENDAR
VERSION:2.0
PRODID:-//Octubre Centre de Cultura Contemporània - ECPv5.1.6//NONSGML v1.0//EN
CALSCALE:GREGORIAN
METHOD:PUBLISH
X-WR-CALNAME:Octubre Centre de Cultura Contemporània
X-ORIGINAL-URL:https://octubre.cat
X-WR-CALDESC:Events for Octubre Centre de Cultura Contemporània
BEGIN:VTIMEZONE
TZID:Europe/Andorra
BEGIN:DAYLIGHT
TZOFFSETFROM:+0100
TZOFFSETTO:+0200
TZNAME:CEST
DTSTART:20180325T010000
END:DAYLIGHT
BEGIN:STANDARD
TZOFFSETFROM:+0200
TZOFFSETTO:+0100
TZNAME:CET
DTSTART:20181028T010000
END:STANDARD
END:VTIMEZONE
BEGIN:VEVENT
DTSTART;TZID=Europe/Andorra:20180321T190000
DTEND;TZID=Europe/Andorra:20180321T190000
DTSTAMP:20260421T215954
CREATED:20200729T190321Z
LAST-MODIFIED:20200729T190321Z
UID:13350-1521658800-1521658800@octubre.cat
SUMMARY:Presentació del llibre 'Un arbre molt alt'\, de Jaume Coll
DESCRIPTION:Dimecres 21 de març a les 19.00h i a la llibreria Fan Set. Amb l’autor acompanyat per Pau Sif.  \n  \n  \n\n Amb l’autor acompanyat per Pau Sif. LV Premi Ausiàs March de poesia de Gandia  Un arbre molt alt\, format per una quarantena de poemes\, va convèncer el jurat del cinquanta-cinquè Premi de Poesia Ausiàs March de Gandia (format per Maria Josep Escrivà\, Rubén Luzón\, Jaume Pont i Jordi Cornudella) per la potència amb què evoca el món natural i domèstic d’un racó d’Osona\, per l’embranzida lírica amb què s’enfila cap a les fonts del pensament poètic\, per la varietat i el rigor de la construcció formal de cadascun dels poemes i per la naturalitat convincent amb què la veu poètica assumeix els tons i les estructures de la llengua viva.   (Edicions 62)
URL:https://octubre.cat/activitat/presentacio-del-llibre-un-arbre-molt-alt-de-jaume-coll/
LOCATION:Llibreria Fan Set
CATEGORIES:Literatura
ATTACH;FMTTYPE=image/jpeg:https://octubre.cat/www/wp-content/uploads/2020/07/activitat2990.jpg
END:VEVENT
END:VCALENDAR