BEGIN:VCALENDAR
VERSION:2.0
PRODID:-//Octubre Centre de Cultura Contemporània - ECPv5.1.6//NONSGML v1.0//EN
CALSCALE:GREGORIAN
METHOD:PUBLISH
X-WR-CALNAME:Octubre Centre de Cultura Contemporània
X-ORIGINAL-URL:https://octubre.cat
X-WR-CALDESC:Events for Octubre Centre de Cultura Contemporània
BEGIN:VTIMEZONE
TZID:Europe/Andorra
BEGIN:DAYLIGHT
TZOFFSETFROM:+0100
TZOFFSETTO:+0200
TZNAME:CEST
DTSTART:20230326T010000
END:DAYLIGHT
BEGIN:STANDARD
TZOFFSETFROM:+0200
TZOFFSETTO:+0100
TZNAME:CET
DTSTART:20231029T010000
END:STANDARD
END:VTIMEZONE
BEGIN:VEVENT
DTSTART;TZID=Europe/Andorra:20230202T190000
DTEND;TZID=Europe/Andorra:20230202T190000
DTSTAMP:20260421T150222
CREATED:20230111T162243Z
LAST-MODIFIED:20250710T081626Z
UID:19277-1675364400-1675364400@octubre.cat
SUMMARY:Presentació del llibre Un afer europeu\, de Jordi Sebastià
DESCRIPTION:Premi Joanot Martorell\nConversa amb l’autor i els periodistes i escriptors Víctor Labrado i Xavier Aliaga.\nPresentarà l’acte Liduvina Gil\, regidora de l’Ajuntament de Gandia\, entitat organitzadora del premi. \nEl jove periodista Joan Ballester viatja a Brussel·les a cobrir un acte protocol·lari i sense interès en les institucions europees; la visita li permet deixar enrere per uns dies problemes sentimentals i familiars als quals no vol enfrontar-se.\nA la capital d’Europa\, però\, s’assabenta de la imminent aprovació d’un tractat comercial que perjudicarà letalment els productors de taronja valencians. Ballester\, periodista escèptic però vocacional\, ha detectat la notícia i decideix quedar-se a Brussel·les per esbrinar els interessos que s’amaguen darrere d’aquell acord. \nUna novel·la negra amb un punt de sarcasme que ens descobreix les clavegueres de la política europea. L’obra guanyadora d’un dels premis més antics de les lletres catalanes. \n  \n \n(Edicions 62)
URL:https://octubre.cat/activitat/presentacio-del-llibre-un-afer-europeu-de-jordi-sebastia/
LOCATION:Llibreria Fan Set
CATEGORIES:Literatura
ATTACH;FMTTYPE=image/jpeg:https://octubre.cat/www/wp-content/uploads/2023/01/jordi_sebastia.jpg
END:VEVENT
END:VCALENDAR