BEGIN:VCALENDAR
VERSION:2.0
PRODID:-//Octubre Centre de Cultura Contemporània - ECPv5.1.6//NONSGML v1.0//EN
CALSCALE:GREGORIAN
METHOD:PUBLISH
X-WR-CALNAME:Octubre Centre de Cultura Contemporània
X-ORIGINAL-URL:https://octubre.cat
X-WR-CALDESC:Events for Octubre Centre de Cultura Contemporània
BEGIN:VTIMEZONE
TZID:Europe/Andorra
BEGIN:DAYLIGHT
TZOFFSETFROM:+0100
TZOFFSETTO:+0200
TZNAME:CEST
DTSTART:20170326T010000
END:DAYLIGHT
BEGIN:STANDARD
TZOFFSETFROM:+0200
TZOFFSETTO:+0100
TZNAME:CET
DTSTART:20171029T010000
END:STANDARD
END:VTIMEZONE
BEGIN:VEVENT
DTSTART;TZID=Europe/Andorra:20170209T190000
DTEND;TZID=Europe/Andorra:20170209T190000
DTSTAMP:20260421T000047
CREATED:20200729T172342Z
LAST-MODIFIED:20200729T185726Z
UID:10987-1486666800-1486666800@octubre.cat
SUMMARY:Presentació del llibre 'Ulls de nit'\, de Roser Furió
DESCRIPTION:Dijous 9 de febrer a les 19.00h i a la llibreria Fan Set. Amb l’autora acompanyada per Joan Femenia i Adrián González.  \n  \n  \n\n Premi de poesia Xavier Casp 2016 (Neopàtria)  Presentació a càrrec de l’autora junt amb Joan Femenia (veu) i Adrián González (violoncel).  Ulls de nit és un camí ple de dubtes i desassossecs\, un camí que s’ha fet lentament i sense por\, encara que la son no puga ser dormida i els ulls ploren llàgrimes de cansament. Hores de vigília alliberen cada mot que la gola estrangula i les ombres\, les hores\, les cabòries\, les mirades\, les tenebres han deixat retalls impregnats de força\, fent que el camí s’eixample i els pensaments deixen de travessar el desolat desert que els soterrava.
URL:https://octubre.cat/activitat/presentacio-del-llibre-ulls-de-nit-de-roser-furio/
LOCATION:Llibreria Fan Set
CATEGORIES:Literatura
ATTACH;FMTTYPE=image/jpeg:https://octubre.cat/www/wp-content/uploads/2020/07/activitat2754.jpg
END:VEVENT
END:VCALENDAR