BEGIN:VCALENDAR
VERSION:2.0
PRODID:-//Octubre Centre de Cultura Contemporània - ECPv5.1.6//NONSGML v1.0//EN
CALSCALE:GREGORIAN
METHOD:PUBLISH
X-WR-CALNAME:Octubre Centre de Cultura Contemporània
X-ORIGINAL-URL:https://octubre.cat
X-WR-CALDESC:Events for Octubre Centre de Cultura Contemporània
BEGIN:VTIMEZONE
TZID:Europe/Andorra
BEGIN:DAYLIGHT
TZOFFSETFROM:+0100
TZOFFSETTO:+0200
TZNAME:CEST
DTSTART:20180325T010000
END:DAYLIGHT
BEGIN:STANDARD
TZOFFSETFROM:+0200
TZOFFSETTO:+0100
TZNAME:CET
DTSTART:20181028T010000
END:STANDARD
END:VTIMEZONE
BEGIN:VEVENT
DTSTART;TZID=Europe/Andorra:20180516T190000
DTEND;TZID=Europe/Andorra:20180516T190000
DTSTAMP:20260423T151819
CREATED:20200729T190355Z
LAST-MODIFIED:20200729T190355Z
UID:13384-1526497200-1526497200@octubre.cat
SUMMARY:Presentació del llibre 'Tupamaros. Del fusell al parlament (1966-2016)' de Vicent Galiana
DESCRIPTION:Dimecres 16 de maig a les 19.00h a la llibreria Fan Set.  \n  \n  \n\n Darrere l’estrella mediàtica que és Pepe Mujica s’amaga una història de mig segle de moviment polític complex i ben ric en matisos: durant el seu període armat\, en dictadura i especialment en el camí cap a la victòria electoral. Pròleg: Lucía Topolansky Epíleg: Íñigo Errejón  (Tigre de Paper Edicions)
URL:https://octubre.cat/activitat/presentacio-del-llibre-tupamaros-del-fusell-al-parlament-1966-2016-de-vicent-galiana/
LOCATION:Llibreria Fan Set
CATEGORIES:Literatura
ATTACH;FMTTYPE=image/jpeg:https://octubre.cat/www/wp-content/uploads/2020/07/activitat3026.jpg
END:VEVENT
END:VCALENDAR