BEGIN:VCALENDAR
VERSION:2.0
PRODID:-//Octubre Centre de Cultura Contemporània - ECPv5.1.6//NONSGML v1.0//EN
CALSCALE:GREGORIAN
METHOD:PUBLISH
X-WR-CALNAME:Octubre Centre de Cultura Contemporània
X-ORIGINAL-URL:https://octubre.cat
X-WR-CALDESC:Events for Octubre Centre de Cultura Contemporània
BEGIN:VTIMEZONE
TZID:Europe/Andorra
BEGIN:DAYLIGHT
TZOFFSETFROM:+0100
TZOFFSETTO:+0200
TZNAME:CEST
DTSTART:20140330T010000
END:DAYLIGHT
BEGIN:STANDARD
TZOFFSETFROM:+0200
TZOFFSETTO:+0100
TZNAME:CET
DTSTART:20141026T010000
END:STANDARD
END:VTIMEZONE
BEGIN:VEVENT
DTSTART;TZID=Europe/Andorra:20141125T190000
DTEND;TZID=Europe/Andorra:20141125T190000
DTSTAMP:20260421T002441
CREATED:20200729T170731Z
LAST-MODIFIED:20200730T041246Z
UID:9953-1416942000-1416942000@octubre.cat
SUMMARY:Presentació del llibre 'Tros de terra'\, d'Eusebi Morales
DESCRIPTION:Dimarts 25 de novembre a les 19.00h. Amb l’autor i Jaume Pérez Montaner  \n  \n  \n\n (Viena Edicions)  Amb l’autor i Jaume Pérez Montaner  Eusebi Morales Fernández (Vilafranca de los Caballeros\, Toledo\, 1952) va arribar a València l’any 1962. Va fer estudis de Filosofia i Teologia al Reial Col·legi Corpus Christi de València i ha cursat també Magisteri i Filologia anglesa. Al llarg de trenta anys ha exercit com a professor d’anglès. Ha publicat els poemaris El somni on visc (2002) i Devoro chocolate (2006) i ha estat guardonat amb diversos premis literaris.
URL:https://octubre.cat/activitat/presentacio-del-llibre-tros-de-terra-deusebi-morales/
LOCATION:Llibreria 3i4
CATEGORIES:Literatura
ATTACH;FMTTYPE=image/jpeg:https://octubre.cat/www/wp-content/uploads/2020/07/activitat2174.jpg
END:VEVENT
END:VCALENDAR