BEGIN:VCALENDAR
VERSION:2.0
PRODID:-//Octubre Centre de Cultura Contemporània - ECPv5.1.6//NONSGML v1.0//EN
CALSCALE:GREGORIAN
METHOD:PUBLISH
X-WR-CALNAME:Octubre Centre de Cultura Contemporània
X-ORIGINAL-URL:https://octubre.cat
X-WR-CALDESC:Events for Octubre Centre de Cultura Contemporània
BEGIN:VTIMEZONE
TZID:Europe/Andorra
BEGIN:DAYLIGHT
TZOFFSETFROM:+0100
TZOFFSETTO:+0200
TZNAME:CEST
DTSTART:20140330T010000
END:DAYLIGHT
BEGIN:STANDARD
TZOFFSETFROM:+0200
TZOFFSETTO:+0100
TZNAME:CET
DTSTART:20141026T010000
END:STANDARD
END:VTIMEZONE
BEGIN:VEVENT
DTSTART;TZID=Europe/Andorra:20140618T190000
DTEND;TZID=Europe/Andorra:20140618T190000
DTSTAMP:20260421T043404
CREATED:20200729T170505Z
LAST-MODIFIED:20200730T041142Z
UID:9793-1403118000-1403118000@octubre.cat
SUMMARY:Presentació del llibre 'Triadisses' de Vicent Penya
DESCRIPTION:Dimecres 18 de juny a les 19.00h a la llibreria 3i4. Amb l’autor\, Manel Alonso i Joan Femenia  \n  \n  \n\n Antologia poètica 1998-2012  Col·lecció “Edicions de la Guerra”\, Editorial Denes  Amb l’autor\, Manel Alonso i Joan Femenia
URL:https://octubre.cat/activitat/presentacio-del-llibre-triadisses-de-vicent-penya/
LOCATION:Llibreria 3i4
CATEGORIES:Literatura
ATTACH;FMTTYPE=image/jpeg:https://octubre.cat/www/wp-content/uploads/2020/07/activitat2088.jpg
END:VEVENT
END:VCALENDAR