BEGIN:VCALENDAR
VERSION:2.0
PRODID:-//Octubre Centre de Cultura Contemporània - ECPv5.1.6//NONSGML v1.0//EN
CALSCALE:GREGORIAN
METHOD:PUBLISH
X-WR-CALNAME:Octubre Centre de Cultura Contemporània
X-ORIGINAL-URL:https://octubre.cat
X-WR-CALDESC:Events for Octubre Centre de Cultura Contemporània
BEGIN:VTIMEZONE
TZID:Europe/Andorra
BEGIN:DAYLIGHT
TZOFFSETFROM:+0100
TZOFFSETTO:+0200
TZNAME:CEST
DTSTART:20150329T010000
END:DAYLIGHT
BEGIN:STANDARD
TZOFFSETFROM:+0200
TZOFFSETTO:+0100
TZNAME:CET
DTSTART:20151025T010000
END:STANDARD
END:VTIMEZONE
BEGIN:VEVENT
DTSTART;TZID=Europe/Andorra:20150416T190000
DTEND;TZID=Europe/Andorra:20150416T190000
DTSTAMP:20260421T174806
CREATED:20200729T171027Z
LAST-MODIFIED:20200730T041426Z
UID:10143-1429210800-1429210800@octubre.cat
SUMMARY:Presentació del llibre 'Trencatenebres'\, de Juli Alandes
DESCRIPTION:Dijous 16 d’abril a les 19.00h. Novel·la guanyadora del premi Andròmina de narrativa dels Premis Octubre 2014. La presentació anirà a càrrec de Núria Cadenes  \n  \n  \n\n Premi Andròmina de narrativa dels Premis Octubre 2014 (Edicions 3i4)  La presentació anirà a càrrec de Núria Cadenes\, periodista i llibretera  Trencatenebres és com una navalla suïssa: un artefacte del qual sorgeixen\, per boca dels seus personatges\, que van narrant cadascun la seua història i alhora construint la història de tothom\, tot d’històries. És una novel·la històrica\, un vast fresc que imprimeix una imatge cubista del País Valencià\, de 1919 a 1937\, entre metges i llauradors\, feixistes\, anarquistes i valencianistes. És una novel·la policíaca\, amb un assassí en sèrie que ve de lluny\, es desboca amb el caos de la guerra civil i deixa una estranya maraca sobre les seues víctimes. És una novel·la sobre un amor si no impossible dificultós\, com tots els amors. Una novel·la sobre la difusa frontera entre el bé i el mal\, sobre les esperances perdudes\, sobre la distància entre el desig i la realitat\, sobre els obstacles que les dones i els hòmens\, però sobre tot les dones\, troben per a poder ser el que volen ser o el que són\, tot buscant la llum entre les tenebres.  Juli Alandes\, nascut el 1968 a Castelló de la Ribera\, el poble amb més noms d’un país de nom prohibit\, és professor d’història i un narrador intrigat pels mots i els fets passats i presents del seu misteriós país. Ha publicat una novel·la epistolar (Ultramar\, 2004)\, un conjunt de relats sobre els guerrillers anarquistes (Àcrates\, 2007) i una sèrie de valencianíssimes novel·les negres tan heterodoxes com el seu protagonista\, el policia-filòsof Miquel O’Malley: la visceral El crepuscle dels afortunats (2010)\, la filològica Crònica negra (2012) i l’exòtica La mirada del cocodril (2014).
URL:https://octubre.cat/activitat/presentacio-del-llibre-trencatenebres-de-juli-alandes/
LOCATION:Llibreria 3i4
CATEGORIES:Literatura
ATTACH;FMTTYPE=image/jpeg:https://octubre.cat/www/wp-content/uploads/2020/07/activitat2309.jpg
END:VEVENT
END:VCALENDAR