BEGIN:VCALENDAR
VERSION:2.0
PRODID:-//Octubre Centre de Cultura Contemporània - ECPv5.1.6//NONSGML v1.0//EN
CALSCALE:GREGORIAN
METHOD:PUBLISH
X-WR-CALNAME:Octubre Centre de Cultura Contemporània
X-ORIGINAL-URL:https://octubre.cat
X-WR-CALDESC:Events for Octubre Centre de Cultura Contemporània
BEGIN:VTIMEZONE
TZID:Europe/Andorra
BEGIN:DAYLIGHT
TZOFFSETFROM:+0100
TZOFFSETTO:+0200
TZNAME:CEST
DTSTART:20150329T010000
END:DAYLIGHT
BEGIN:STANDARD
TZOFFSETFROM:+0200
TZOFFSETTO:+0100
TZNAME:CET
DTSTART:20151025T010000
END:STANDARD
END:VTIMEZONE
BEGIN:VEVENT
DTSTART;TZID=Europe/Andorra:20150925T183000
DTEND;TZID=Europe/Andorra:20150925T183000
DTSTAMP:20260421T193709
CREATED:20200729T171219Z
LAST-MODIFIED:20200730T041512Z
UID:10262-1443205800-1443205800@octubre.cat
SUMMARY:Presentació del llibre 'Trauma i transmissió'
DESCRIPTION:Divendres 25 de setembre a les 18.30h. A la llibreria 3i4. Taula rodona amb les autores\, Maria Conca\, Alfons Cervera i Marina Albaladejo.  \n  \n  \n\n Trauma i transmissió Efectes de la guerra del 36\, la postguerra\, la dictadura i la transició en la subjectivitat dels ciutadans Anna Miñarro i Teresa Morandi (compiladores)  (Xoroi edicions)  Taula rodona amb la participació de Maria Conca\, (filòloga\, familiar i testimoni de represaliat) i Alfons Cervera (escriptor i periodista). Presenta i modera: Marina Albadalejo (psicòloga clínica i psicoanalista) Amb la presència de les compiladores del llibre Anna Miñarro i Teresa Morandi\, ambdues Psicòlogues Clíniques i Psicoanalistes.  Aquest llibre es una selecció d’articles basats en la recerca «Trauma i Transmissió en les generacions»\, primer estudi empíric qualitatiu en el camp de la Psicoanàlisi i la Salut Mental sobre els efectes de la guerra del 36\, la postguerra\, la dictadura i la transició que va ser publicat en Quaderns de Salut Mental. S’intenta comprendre de quina forma la història violenta d’un temps i un país es va introduir en la vida i en el destí dels subjectes i com s’ha transmès a les diferents generacions la inscripció simbòlica d’aquests fets històrics\, alhora que planteja interrogants sobre la seva incidència en la subjectivitat de la nostra època. Parlar i escriure sobre els traumes provocats per l’horror que ha significat la catàstrofe social\, és un intent de produir efecte de transmissió : advertir i prevenir sobre la repetició de qualsevol tragèdia.
URL:https://octubre.cat/activitat/presentacio-del-llibre-trauma-i-transmissio/
LOCATION:Llibreria 3i4
CATEGORIES:Literatura
ATTACH;FMTTYPE=image/jpeg:https://octubre.cat/www/wp-content/uploads/2020/07/activitat2369.jpg
END:VEVENT
END:VCALENDAR