BEGIN:VCALENDAR
VERSION:2.0
PRODID:-//Octubre Centre de Cultura Contemporània - ECPv5.1.6//NONSGML v1.0//EN
CALSCALE:GREGORIAN
METHOD:PUBLISH
X-WR-CALNAME:Octubre Centre de Cultura Contemporània
X-ORIGINAL-URL:https://octubre.cat
X-WR-CALDESC:Events for Octubre Centre de Cultura Contemporània
BEGIN:VTIMEZONE
TZID:Europe/Andorra
BEGIN:DAYLIGHT
TZOFFSETFROM:+0100
TZOFFSETTO:+0200
TZNAME:CEST
DTSTART:20250330T010000
END:DAYLIGHT
BEGIN:STANDARD
TZOFFSETFROM:+0200
TZOFFSETTO:+0100
TZNAME:CET
DTSTART:20251026T010000
END:STANDARD
END:VTIMEZONE
BEGIN:VEVENT
DTSTART;TZID=Europe/Andorra:20251118T190000
DTEND;TZID=Europe/Andorra:20251118T190000
DTSTAMP:20260420T102734
CREATED:20251028T171729Z
LAST-MODIFIED:20251028T174926Z
UID:23892-1763492400-1763492400@octubre.cat
SUMMARY:Presentació del llibre Totes les cançons\, de Vicent Torrent
DESCRIPTION:Conversa de l’autor amb Eva Dénia\, Pau Alabajos\, Rosanna Pastor i Xavier Aliaga. \nAquest llibre\, editat a cura de Soledad Desfilis\, recull totes les cançons escrites o adaptades per Vicent Torrent\, testimoni d’una vida de creació i compromís. Un llegat imprescindible que forma part de la banda sonora d’aquest País.  \n 
URL:https://octubre.cat/activitat/presentacio-del-llibre-totes-les-cancons-de-vicent-torrent/
LOCATION:Hall
CATEGORIES:Literatura,Música
ATTACH;FMTTYPE=image/jpeg:https://octubre.cat/www/wp-content/uploads/2025/10/Presentacio-llibre-Torrent-en-Blanco-y-Negro-1.jpg
END:VEVENT
END:VCALENDAR