BEGIN:VCALENDAR
VERSION:2.0
PRODID:-//Octubre Centre de Cultura Contemporània - ECPv5.1.6//NONSGML v1.0//EN
CALSCALE:GREGORIAN
METHOD:PUBLISH
X-WR-CALNAME:Octubre Centre de Cultura Contemporània
X-ORIGINAL-URL:https://octubre.cat
X-WR-CALDESC:Events for Octubre Centre de Cultura Contemporània
BEGIN:VTIMEZONE
TZID:Europe/Andorra
BEGIN:DAYLIGHT
TZOFFSETFROM:+0100
TZOFFSETTO:+0200
TZNAME:CEST
DTSTART:20140330T010000
END:DAYLIGHT
BEGIN:STANDARD
TZOFFSETFROM:+0200
TZOFFSETTO:+0100
TZNAME:CET
DTSTART:20141026T010000
END:STANDARD
END:VTIMEZONE
BEGIN:VEVENT
DTSTART;TZID=Europe/Andorra:20141002T190000
DTEND;TZID=Europe/Andorra:20141002T190000
DTSTAMP:20260421T123552
CREATED:20200729T170619Z
LAST-MODIFIED:20200730T041215Z
UID:9874-1412276400-1412276400@octubre.cat
SUMMARY:Presentació del llibre 'Tot el que tinc per ballar amb tu'\, d'Elvira Cambrils
DESCRIPTION:Dijous 2 d’octubre a les 19.00h. Presentació a càrrec de Núria Cadenes\, escriptora i llibretera  \n  \n  \n\n (Bullent)  Presentació a càrrec de Núria Cadenes\, escriptora i llibretera.  Tot el que tinc per ballar amb tu parla de la sensualitat i els sabers de la filosofia moral clàssica com a antídots contra les gorgones que amenacen l’existència humana. És una història sobre la fragilitat i la por però també sobre el valor de la rebel·lia individual per a afrontar-les.
URL:https://octubre.cat/activitat/presentacio-del-llibre-tot-el-que-tinc-per-ballar-amb-tu-delvira-cambrils/
LOCATION:Llibreria 3i4
CATEGORIES:Literatura
ATTACH;FMTTYPE=image/jpeg:https://octubre.cat/www/wp-content/uploads/2020/07/activitat2133.jpg
END:VEVENT
END:VCALENDAR