BEGIN:VCALENDAR
VERSION:2.0
PRODID:-//Octubre Centre de Cultura Contemporània - ECPv5.1.6//NONSGML v1.0//EN
CALSCALE:GREGORIAN
METHOD:PUBLISH
X-WR-CALNAME:Octubre Centre de Cultura Contemporània
X-ORIGINAL-URL:https://octubre.cat
X-WR-CALDESC:Events for Octubre Centre de Cultura Contemporània
BEGIN:VTIMEZONE
TZID:Europe/Andorra
BEGIN:DAYLIGHT
TZOFFSETFROM:+0100
TZOFFSETTO:+0200
TZNAME:CEST
DTSTART:20140330T010000
END:DAYLIGHT
BEGIN:STANDARD
TZOFFSETFROM:+0200
TZOFFSETTO:+0100
TZNAME:CET
DTSTART:20141026T010000
END:STANDARD
END:VTIMEZONE
BEGIN:VEVENT
DTSTART;TZID=Europe/Andorra:20141027T190000
DTEND;TZID=Europe/Andorra:20141027T190000
DTSTAMP:20260421T090505
CREATED:20200729T170630Z
LAST-MODIFIED:20200730T041221Z
UID:9886-1414436400-1414436400@octubre.cat
SUMMARY:Presentació del llibre 'Tópico de cáncer'\, de Susana Koska
DESCRIPTION:Dilluns 27 d’octubre a les 19.00h. A càrrec d’Eduardo Guillot  \n  \n  \n\n (Ediciones B)  A càrrec del periodista i escriptor Eduardo Guillot  Susana Koska (Donostia\, 1966) és autodidacta. Ha passejat pel cinema i el teatre\, en aquest cas amb l’adaptació de l’obra de Bernardo Atxaga Saldría a pasear todas las noches. Ha dirigit dos documentals: Mujeres en pie de guerra i Vindicación (que es projectarà a l’Ocutbre CCC el dimarts 28 d’octubre)  Tópico de càncer és el seu primer llibre\, basat en les vivències de l’autora a partir del moment que se li va diagnosticar un càncer.  “Desgarradura de mujer\, impresa en un diario armado sin armas\, pero con criterio guerrero\, agitador de conciencias que duda\, siente y patalea desde el insomnio lúcido de las heridas\, del fragor contenido\, desde la puerta de atrás\, desde un texto sin pretextos; bello\, emotivo y triste\, como todo lo esencial.” (Dr Pedro Luis Soldevilla)
URL:https://octubre.cat/activitat/presentacio-del-llibre-topico-de-cancer-de-susana-koska/
CATEGORIES:Literatura
ATTACH;FMTTYPE=image/jpeg:https://octubre.cat/www/wp-content/uploads/2020/07/activitat2140.jpg
END:VEVENT
END:VCALENDAR