BEGIN:VCALENDAR
VERSION:2.0
PRODID:-//Octubre Centre de Cultura Contemporània - ECPv5.1.6//NONSGML v1.0//EN
CALSCALE:GREGORIAN
METHOD:PUBLISH
X-WR-CALNAME:Octubre Centre de Cultura Contemporània
X-ORIGINAL-URL:https://octubre.cat
X-WR-CALDESC:Events for Octubre Centre de Cultura Contemporània
BEGIN:VTIMEZONE
TZID:Europe/Andorra
BEGIN:DAYLIGHT
TZOFFSETFROM:+0100
TZOFFSETTO:+0200
TZNAME:CEST
DTSTART:20150329T010000
END:DAYLIGHT
BEGIN:STANDARD
TZOFFSETFROM:+0200
TZOFFSETTO:+0100
TZNAME:CET
DTSTART:20151025T010000
END:STANDARD
END:VTIMEZONE
BEGIN:VEVENT
DTSTART;TZID=Europe/Andorra:20150331T190000
DTEND;TZID=Europe/Andorra:20150331T190000
DTSTAMP:20260422T010157
CREATED:20200729T170932Z
LAST-MODIFIED:20200730T041403Z
UID:10083-1427828400-1427828400@octubre.cat
SUMMARY:Presentació del llibre 'Tirant\, l'heroi fràgil'\, de Víctor Labrado
DESCRIPTION:Dimarts 31 de març a les 19.00h a la llibreria 3i4. Amb l’autor\, Vicent Olmos i Jordi Sebastià  \n  \n  \n\n (Editorial Afers)  La presentació anirà a càrrec de l’autor acompanyat de Vicent Olmos i Jordi Sebastià  “Les grans obres provoquen paraules. Les obres magnes\, simplement\, provoquen altres obres. Reinterpretacions en forma de poemes\, obres de teatre\, novel·les o assaigs que tornen a recórrer el mite –perquè en són\, de mites. És el cas de Tirant\, l’heroi fràgil\, del filòleg suecà Víctor Labrado\, un assaig divers –ho és\, en tractar\, ací i allà\, aspectes diferents de la gran obra de Martorell–\, però unit al voltant d’una passió: el Tirant\, és clar. Unes línies\, les de Labrado\, a prop de la lectura comentada\, que incideixen en algunes de les línies d’investigació que ja havia deixat entreveure en El segle valencià\, un altre conjunt d’assaigs sobre els cent anys més celebrats de la literatura catalana. Cent anys\, per cert\, que semblen no esgotar-se mai.” (El País)
URL:https://octubre.cat/activitat/presentacio-del-llibre-tirant-lheroi-fragil-de-victor-labrado/
LOCATION:Llibreria 3i4
CATEGORIES:Literatura
ATTACH;FMTTYPE=image/jpeg:https://octubre.cat/www/wp-content/uploads/2020/07/activitat2275.jpg
END:VEVENT
END:VCALENDAR