BEGIN:VCALENDAR
VERSION:2.0
PRODID:-//Octubre Centre de Cultura Contemporània - ECPv5.1.6//NONSGML v1.0//EN
CALSCALE:GREGORIAN
METHOD:PUBLISH
X-WR-CALNAME:Octubre Centre de Cultura Contemporània
X-ORIGINAL-URL:https://octubre.cat
X-WR-CALDESC:Events for Octubre Centre de Cultura Contemporània
BEGIN:VTIMEZONE
TZID:Europe/Andorra
BEGIN:DAYLIGHT
TZOFFSETFROM:+0100
TZOFFSETTO:+0200
TZNAME:CEST
DTSTART:20140330T010000
END:DAYLIGHT
BEGIN:STANDARD
TZOFFSETFROM:+0200
TZOFFSETTO:+0100
TZNAME:CET
DTSTART:20141026T010000
END:STANDARD
END:VTIMEZONE
BEGIN:VEVENT
DTSTART;TZID=Europe/Andorra:20140116T190000
DTEND;TZID=Europe/Andorra:20140116T190000
DTSTAMP:20260422T080219
CREATED:20200729T170313Z
LAST-MODIFIED:20200729T184330Z
UID:9682-1389898800-1389898800@octubre.cat
SUMMARY:Presentació del llibre 'Testament'\, de Gaspar Jaén Urban
DESCRIPTION:Dijous 16 de gener a les 19.00h. Presentació del poemari amb l’autor i Alexandre Bataller  \n  \n  \n\n Presentació del poemari Testament.Sonets de l’Hort de les Palmeres\, de Gaspar Jaén (Arola editors): amb l’autor i Alexandre Bataller.  Amb aquest darrera entrega poètica\, Gaspar Jaén\, el poeta de la terra del sud\, el poeta jardiner dels versos i dels horts de palmeres\, ens lliura un testament literari que tanca un cicle poètic que s’inicià fa més de tres dècades.
URL:https://octubre.cat/activitat/presentacio-del-llibre-testament-de-gaspar-jaen-urban/
LOCATION:Llibreria 3i4
CATEGORIES:Literatura
ATTACH;FMTTYPE=image/jpeg:https://octubre.cat/www/wp-content/uploads/2020/07/activitat1974.jpg
END:VEVENT
END:VCALENDAR