BEGIN:VCALENDAR
VERSION:2.0
PRODID:-//Octubre Centre de Cultura Contemporània - ECPv5.1.6//NONSGML v1.0//EN
CALSCALE:GREGORIAN
METHOD:PUBLISH
X-WR-CALNAME:Octubre Centre de Cultura Contemporània
X-ORIGINAL-URL:https://octubre.cat
X-WR-CALDESC:Events for Octubre Centre de Cultura Contemporània
BEGIN:VTIMEZONE
TZID:Europe/Andorra
BEGIN:DAYLIGHT
TZOFFSETFROM:+0100
TZOFFSETTO:+0200
TZNAME:CEST
DTSTART:20170326T010000
END:DAYLIGHT
BEGIN:STANDARD
TZOFFSETFROM:+0200
TZOFFSETTO:+0100
TZNAME:CET
DTSTART:20171029T010000
END:STANDARD
END:VTIMEZONE
BEGIN:VEVENT
DTSTART;TZID=Europe/Andorra:20170516T190000
DTEND;TZID=Europe/Andorra:20170516T190000
DTSTAMP:20260423T103222
CREATED:20200729T172552Z
LAST-MODIFIED:20200729T185826Z
UID:11131-1494961200-1494961200@octubre.cat
SUMMARY:Presentació del llibre 'Terra d'aigua'\, de Ramon Guillem
DESCRIPTION:Dimarts 16 de maig a les 19.00h a la llibreria Fan Set.  \n  \n  \n\n Amb il·lustracions de Joan Olivares (El Petit Editor).  La presentació anirà a càrrec de l’autor acompanyat per Jaume Pérez Montaner i per l’editor David Vidal. I amb l´actuació musical de Miquel Gil i Josep Alemany\, amb Mario Fierro al piano.
URL:https://octubre.cat/activitat/presentacio-del-llibre-terra-daigua-de-ramon-guillem/
LOCATION:Llibreria Fan Set
CATEGORIES:Literatura
ATTACH;FMTTYPE=image/jpeg:https://octubre.cat/www/wp-content/uploads/2020/07/activitat2827.jpg
END:VEVENT
END:VCALENDAR