BEGIN:VCALENDAR
VERSION:2.0
PRODID:-//Octubre Centre de Cultura Contemporània - ECPv5.1.6//NONSGML v1.0//EN
CALSCALE:GREGORIAN
METHOD:PUBLISH
X-WR-CALNAME:Octubre Centre de Cultura Contemporània
X-ORIGINAL-URL:https://octubre.cat
X-WR-CALDESC:Events for Octubre Centre de Cultura Contemporània
BEGIN:VTIMEZONE
TZID:Europe/Andorra
BEGIN:DAYLIGHT
TZOFFSETFROM:+0100
TZOFFSETTO:+0200
TZNAME:CEST
DTSTART:20220327T010000
END:DAYLIGHT
BEGIN:STANDARD
TZOFFSETFROM:+0200
TZOFFSETTO:+0100
TZNAME:CET
DTSTART:20221030T010000
END:STANDARD
END:VTIMEZONE
BEGIN:VEVENT
DTSTART;TZID=Europe/Andorra:20221201T190000
DTEND;TZID=Europe/Andorra:20221201T190000
DTSTAMP:20260420T211943
CREATED:20221115T090304Z
LAST-MODIFIED:20250629T094945Z
UID:19077-1669921200-1669921200@octubre.cat
SUMMARY:Presentació del llibre Tercera edició: sexe\, llibres i lawfare\, d'Enric Nomdedéu
DESCRIPTION:Amb l’autor acompanyat per Mònica Oltra. \nTercera edició: sexe\, llibres i lawfare és un llibre de gènere fluid en què la història principal\, protagonitzada per un conseller valencianista víctima del lawfare\, adopta forma de novel·la pròxima al gènere negre. Al seu torn\, el protagonista escriu una novel·la que pretén que siga d’amor lèsbic. Tanmateix\, la dedicació d’ambdues protagonistes al món de la llengua acaba convertint l’obra en una sèrie d’esbossos\, fragments d’una novel·la sobre literatura i l’ofici d’escriure. Les dues novel·les avancen paral·lelament\, però mai no conflueixen. \n  \n \n(Onada Edicions)
URL:https://octubre.cat/activitat/presentacio-del-llibre-tercera-edicio-sexe-llibres-i-lawfare-denric-nomdedeu/
LOCATION:Llibreria Fan Set
CATEGORIES:Literatura
ATTACH;FMTTYPE=image/jpeg:https://octubre.cat/www/wp-content/uploads/2022/11/enric-nomdedeu.jpg
END:VEVENT
END:VCALENDAR