BEGIN:VCALENDAR
VERSION:2.0
PRODID:-//Octubre Centre de Cultura Contemporània - ECPv5.1.6//NONSGML v1.0//EN
CALSCALE:GREGORIAN
METHOD:PUBLISH
X-WR-CALNAME:Octubre Centre de Cultura Contemporània
X-ORIGINAL-URL:https://octubre.cat
X-WR-CALDESC:Events for Octubre Centre de Cultura Contemporània
BEGIN:VTIMEZONE
TZID:Europe/Andorra
BEGIN:DAYLIGHT
TZOFFSETFROM:+0100
TZOFFSETTO:+0200
TZNAME:CEST
DTSTART:20180325T010000
END:DAYLIGHT
BEGIN:STANDARD
TZOFFSETFROM:+0200
TZOFFSETTO:+0100
TZNAME:CET
DTSTART:20181028T010000
END:STANDARD
END:VTIMEZONE
BEGIN:VEVENT
DTSTART;TZID=Europe/Andorra:20180419T190000
DTEND;TZID=Europe/Andorra:20180419T190000
DTSTAMP:20260421T174441
CREATED:20200729T190343Z
LAST-MODIFIED:20200729T190343Z
UID:13372-1524164400-1524164400@octubre.cat
SUMMARY:Presentació del llibre 'Teoria del càstig'\, d’Alan Greus
DESCRIPTION:Dijous 19 d’abril a les 19.00h a la llibreria Fan Set. Amb l’autor acompanyat per Esperança Camps.  \n  \n  \n\n La presentació comptarà amb l’autor acompanyat per Esperança Camps. XIX Premi de Narrativa Ciutat de Sagunt.  Una novel·la els personatges de la qual caminen sobre la ratlla que delimita la infracció\, ben actuant com a autoritat que sanciona\, ben suportant la càrrega del càstig. Un enamorat que pateix la indiferència de l’estimada\, una mestressa de casa atrapada en la malaltia del marit\, un escriptor que busca l’oportunitat de publicar el seu primer llibre o un tauró de les finances que pateix un accident aeri ens conviden a una reflexió sobre què justifica el càstig més enllà de les lleis humanes. Greus és llicenciat en Filologia per la Universitat de València i exerceix la docència com a professor de llengua i literatura en l’ensenyament secundari.  (Onada edicions)
URL:https://octubre.cat/activitat/presentacio-del-llibre-teoria-del-castig-dalan-greus/
LOCATION:Llibreria Fan Set
CATEGORIES:Literatura
ATTACH;FMTTYPE=image/jpeg:https://octubre.cat/www/wp-content/uploads/2020/07/activitat3015.jpg
END:VEVENT
END:VCALENDAR