BEGIN:VCALENDAR
VERSION:2.0
PRODID:-//Octubre Centre de Cultura Contemporània - ECPv5.1.6//NONSGML v1.0//EN
CALSCALE:GREGORIAN
METHOD:PUBLISH
X-WR-CALNAME:Octubre Centre de Cultura Contemporània
X-ORIGINAL-URL:https://octubre.cat
X-WR-CALDESC:Events for Octubre Centre de Cultura Contemporània
BEGIN:VTIMEZONE
TZID:Europe/Andorra
BEGIN:DAYLIGHT
TZOFFSETFROM:+0100
TZOFFSETTO:+0200
TZNAME:CEST
DTSTART:20230326T010000
END:DAYLIGHT
BEGIN:STANDARD
TZOFFSETFROM:+0200
TZOFFSETTO:+0100
TZNAME:CET
DTSTART:20231029T010000
END:STANDARD
END:VTIMEZONE
BEGIN:VEVENT
DTSTART;TZID=Europe/Andorra:20230914T190000
DTEND;TZID=Europe/Andorra:20230914T190000
DTSTAMP:20260422T045103
CREATED:20230717T092157Z
LAST-MODIFIED:20250710T082532Z
UID:20210-1694718000-1694718000@octubre.cat
SUMMARY:Presentació del llibre Teler de zèfir\, de Josep Micó Conejero
DESCRIPTION:Premi Francesc Badenes Dalmau de Poesia 2022\, dins dels XLIX Premis Literaris d’Alberic. \nAmb l’autor acompanyat per Pere Císcar. \nAquest ‘teler de zèfir’ és la recreació poètica de les passes que han marcat l’esdevenir del camí d’un jo poètic narrador\, acompanyat en aquest itinerari vital per una altra persona estimada\, durant una etapa molt llarga de la vida. Un camí que estronca sobtadament la mort.\nÉs un viatge\, que donà sentit a la vida\, però que com ella\, s’alimentà d’imprevistos que a voltes aportaven plenitud i d’altres foren causa de dolor.\nAquest viatge també és interior perquè recupera\, a través del record\, el temps que ha fugit. Un pal·liatiu per omplir el buit de la pèrdua.\nÉs un exercici literari perquè romanga per sempre en els versos una absència irrecuperable. Un desig impossible de cauteritzar una dolorida soledat. \n  \n \n(Editorial Reclam)
URL:https://octubre.cat/activitat/presentacio-del-llibre-teler-de-zefir-de-josep-mico-conejero/
LOCATION:Llibreria Fan Set
CATEGORIES:Literatura
ATTACH;FMTTYPE=image/jpeg:https://octubre.cat/www/wp-content/uploads/2023/07/josep-mico.jpg
END:VEVENT
END:VCALENDAR