BEGIN:VCALENDAR
VERSION:2.0
PRODID:-//Octubre Centre de Cultura Contemporània - ECPv5.1.6//NONSGML v1.0//EN
CALSCALE:GREGORIAN
METHOD:PUBLISH
X-WR-CALNAME:Octubre Centre de Cultura Contemporània
X-ORIGINAL-URL:https://octubre.cat
X-WR-CALDESC:Events for Octubre Centre de Cultura Contemporània
BEGIN:VTIMEZONE
TZID:Europe/Andorra
BEGIN:DAYLIGHT
TZOFFSETFROM:+0100
TZOFFSETTO:+0200
TZNAME:CEST
DTSTART:20140330T010000
END:DAYLIGHT
BEGIN:STANDARD
TZOFFSETFROM:+0200
TZOFFSETTO:+0100
TZNAME:CET
DTSTART:20141026T010000
END:STANDARD
END:VTIMEZONE
BEGIN:VEVENT
DTSTART;TZID=Europe/Andorra:20140926T190000
DTEND;TZID=Europe/Andorra:20140926T190000
DTSTAMP:20260421T165714
CREATED:20200729T170611Z
LAST-MODIFIED:20200730T041212Z
UID:9865-1411758000-1411758000@octubre.cat
SUMMARY:Presentació del llibre 'Teixir revoltes. El Bloc d'Estudiants Agermanats'
DESCRIPTION:Divendres 26 de setembre a les 19.00h. A càrrec del seu editor\, Eduard Ramírez\, i en commemoració del 30 aniversari de la creació del BEA  \n  \n  \n\n (PUV)  La presentació anirà a càrrec del seu editor\, Eduard Ramírez\, i es fa en celebració del 30é aniversari de la creacó del BEA.  El Bloc d’Estudiants Agermanats\, el sindicat estudiantil més representatiu del País Valencià\, ha assolit trenta anys d’activitat continuada. El BEA és una organització creada a la Universitat de València el 1984\, per una generació estudiantil que reclamava una transformació profunda de l’estructura i el funcionament institucionals. Aquest llibre presenta un mosaic d’opinions sobre la participació en el moviment estudiantil\, i pretén apropar una panoràmica de l’activitat d’un moviment plural i col·lectiu mitjançant la suma i confrontació de moltes veus que han fet possible la seua presència\, la seua influència\, la seua continuïtat. Però a més del vessant testimonial\, aquest llibre mira de situar el BEA en una tradició històrica de lluita \, de maduració de discursos i d’organització\, de propostes de canvi i de modernització des del valencianisme i l’esquerra.
URL:https://octubre.cat/activitat/presentacio-del-llibre-teixir-revoltes-el-bloc-destudiants-agermanats/
LOCATION:Llibreria 3i4
CATEGORIES:Literatura
ATTACH;FMTTYPE=image/jpeg:https://octubre.cat/www/wp-content/uploads/2020/07/activitat2129.jpg
END:VEVENT
END:VCALENDAR