BEGIN:VCALENDAR
VERSION:2.0
PRODID:-//Octubre Centre de Cultura Contemporània - ECPv5.1.6//NONSGML v1.0//EN
CALSCALE:GREGORIAN
METHOD:PUBLISH
X-WR-CALNAME:Octubre Centre de Cultura Contemporània
X-ORIGINAL-URL:https://octubre.cat
X-WR-CALDESC:Events for Octubre Centre de Cultura Contemporània
BEGIN:VTIMEZONE
TZID:Europe/Andorra
BEGIN:DAYLIGHT
TZOFFSETFROM:+0100
TZOFFSETTO:+0200
TZNAME:CEST
DTSTART:20210328T010000
END:DAYLIGHT
BEGIN:STANDARD
TZOFFSETFROM:+0200
TZOFFSETTO:+0100
TZNAME:CET
DTSTART:20211031T010000
END:STANDARD
END:VTIMEZONE
BEGIN:VEVENT
DTSTART;TZID=Europe/Andorra:20210922T190000
DTEND;TZID=Europe/Andorra:20210922T190000
DTSTAMP:20260420T104617
CREATED:20210728T095118Z
LAST-MODIFIED:20210920T154549Z
UID:16813-1632337200-1632337200@octubre.cat
SUMMARY:Presentació del llibre Teatre complet - 2\, de Manuel Molins
DESCRIPTION:A l’acte participaran l’autor\, Manuel Molins\, Enric Estrela (subdirector del Magnànim) i Abel Guarinos (Director General de l’Institut Valencià de Cultura). L’acte estarà amenitzat amb una lectura dramatitzada de part de l’obra a càrrec de l’actriu Pepa Alòs. \nAquest segon volum de l’obra de Manuel Molins conté quatre sèries: «Trilogia d’exilis» (1979-1987\, tres peces)\, «Mirades sobre Shakespeare»\, (1996-2020\, quatre peces)\, «Llums i ombres valencianes» (1980-2019\, deu peces) i «Peces curtes» (1992-2016\, vint-i-tres). Es tracta d’una nova i sorprenent aportació a l’ideari de la seua dramatúrgia: «problematitzar el món\, despullar les convencions i situar els humans enmig dels drames en què sobreviuen per la injustícia i les pressions dels poderosos». \n \n(Institució Alfons el Magnànim)
URL:https://octubre.cat/activitat/presentacio-del-llibre-teatre-complet-2-de-manuel-molins/
LOCATION:Llibreria Fan Set
CATEGORIES:Literatura
ATTACH;FMTTYPE=image/jpeg:https://octubre.cat/www/wp-content/uploads/2021/07/manuel-molins-scaled.jpg
END:VEVENT
END:VCALENDAR