BEGIN:VCALENDAR
VERSION:2.0
PRODID:-//Octubre Centre de Cultura Contemporània - ECPv5.1.6//NONSGML v1.0//EN
CALSCALE:GREGORIAN
METHOD:PUBLISH
X-WR-CALNAME:Octubre Centre de Cultura Contemporània
X-ORIGINAL-URL:https://octubre.cat
X-WR-CALDESC:Events for Octubre Centre de Cultura Contemporània
BEGIN:VTIMEZONE
TZID:Europe/Andorra
BEGIN:DAYLIGHT
TZOFFSETFROM:+0100
TZOFFSETTO:+0200
TZNAME:CEST
DTSTART:20170326T010000
END:DAYLIGHT
BEGIN:STANDARD
TZOFFSETFROM:+0200
TZOFFSETTO:+0100
TZNAME:CET
DTSTART:20171029T010000
END:STANDARD
END:VTIMEZONE
BEGIN:VEVENT
DTSTART;TZID=Europe/Andorra:20170509T190000
DTEND;TZID=Europe/Andorra:20170509T190000
DTSTAMP:20260421T114010
CREATED:20200729T172550Z
LAST-MODIFIED:20200729T185824Z
UID:11129-1494356400-1494356400@octubre.cat
SUMMARY:Presentació del llibre 'Talismà'\, de Carles Mulet
DESCRIPTION:Dimarts 9 de maig a les 19.00h. Amb l’autor i Manel Rodríguez Castelló.  \n  \n  \n\n Obra guanyadora del XXXIV Premi de Poesia “Manuel Rodríguez Martínez – Ciutat d’Alcoi” (Denes).  Amb l’autor i Manel Rodríguez Castelló
URL:https://octubre.cat/activitat/presentacio-del-llibre-talisma-de-carles-mulet/
LOCATION:Llibreria Fan Set
CATEGORIES:Literatura
ATTACH;FMTTYPE=image/jpeg:https://octubre.cat/www/wp-content/uploads/2020/07/activitat2825.jpg
END:VEVENT
END:VCALENDAR