BEGIN:VCALENDAR
VERSION:2.0
PRODID:-//Octubre Centre de Cultura Contemporània - ECPv5.1.6//NONSGML v1.0//EN
CALSCALE:GREGORIAN
METHOD:PUBLISH
X-WR-CALNAME:Octubre Centre de Cultura Contemporània
X-ORIGINAL-URL:https://octubre.cat
X-WR-CALDESC:Events for Octubre Centre de Cultura Contemporània
BEGIN:VTIMEZONE
TZID:Europe/Andorra
BEGIN:DAYLIGHT
TZOFFSETFROM:+0100
TZOFFSETTO:+0200
TZNAME:CEST
DTSTART:20140330T010000
END:DAYLIGHT
BEGIN:STANDARD
TZOFFSETFROM:+0200
TZOFFSETTO:+0100
TZNAME:CET
DTSTART:20141026T010000
END:STANDARD
END:VTIMEZONE
BEGIN:VEVENT
DTSTART;TZID=Europe/Andorra:20141016T190000
DTEND;TZID=Europe/Andorra:20141016T190000
DTSTAMP:20260421T002420
CREATED:20200729T170627Z
LAST-MODIFIED:20200730T041218Z
UID:9882-1413486000-1413486000@octubre.cat
SUMMARY:Presentació del llibre 'Suc de magrana'\, de Francesc Mompó
DESCRIPTION:Dijous 16 d’octubre a les 19.00h. La presentació anirà a càrrec de Josep Mir i recitaran Esther Villanueva i Joan Femenia  \n  \n  \n\n (Editorial Germania)  La presentació anirà a càrrec de Josep Mir i recitaran Esther Villanueva i  Joan Femenia.  “Al llarg de tot el llibre Francesc Mompó juga amb el títol de cada poema buscant un nou sentit a la mateixa paraula haiku\, combinant-la amb diversos adjectius que el qualifiquen d’una manera o altra o situant-lo en diverses escenes i escenaris. Suc de magrana és un llibre per a ser digerit a poc a poc\, una lectura ràpida farà que ens perdem els detalls d’un bon tast. És un llibre per a no ser tancat en molt de temps\, cal que reste obert sobre la taula de lectura com una papallona que de tant en tant ha d’iniciar el vol per a descobrir-nos un univers on la paraula ens suggerix les tòrrides imatges del desig” (ressenya de Manel Alonso)
URL:https://octubre.cat/activitat/presentacio-del-llibre-suc-de-magrana-de-francesc-mompo/
LOCATION:Llibreria 3i4
CATEGORIES:Literatura
ATTACH;FMTTYPE=image/jpeg:https://octubre.cat/www/wp-content/uploads/2020/07/activitat2136.jpg
END:VEVENT
END:VCALENDAR