BEGIN:VCALENDAR
VERSION:2.0
PRODID:-//Octubre Centre de Cultura Contemporània - ECPv5.1.6//NONSGML v1.0//EN
CALSCALE:GREGORIAN
METHOD:PUBLISH
X-WR-CALNAME:Octubre Centre de Cultura Contemporània
X-ORIGINAL-URL:https://octubre.cat
X-WR-CALDESC:Events for Octubre Centre de Cultura Contemporània
BEGIN:VTIMEZONE
TZID:Europe/Andorra
BEGIN:DAYLIGHT
TZOFFSETFROM:+0100
TZOFFSETTO:+0200
TZNAME:CEST
DTSTART:20190331T010000
END:DAYLIGHT
BEGIN:STANDARD
TZOFFSETFROM:+0200
TZOFFSETTO:+0100
TZNAME:CET
DTSTART:20191027T010000
END:STANDARD
END:VTIMEZONE
BEGIN:VEVENT
DTSTART;TZID=Europe/Andorra:20190528T190000
DTEND;TZID=Europe/Andorra:20190528T190000
DTSTAMP:20260421T072419
CREATED:20200729T173351Z
LAST-MODIFIED:20200729T191126Z
UID:11419-1559070000-1559070000@octubre.cat
SUMMARY:Presentació del llibre "Solsticis"\, d'Imma López Pavía
DESCRIPTION:Dimarts 28 de maig a les 19.00h. Amb Mercè Claramunt\, Beatriu Palmero i Manolo Gil.	 \n  \n  \n\n 	 Amb Mercè Claramunt\, escriptora; Beatriu Palmero\, regidora de Cultura de La Pobla de Vallbona; Manolo Gil\, editor.  Solsticis ha guanyat el Premi Teodor Llorente de Poesia\, La Pobla de Vallbona 2019. Aquest poemari és una reflexió sobre el pas del temps\, les relacions amoroses i el fet poètic entès també com temps i espai a la pàgina en blanc.  (Vincle)
URL:https://octubre.cat/activitat/presentacio-del-llibre-solsticis-dimma-lopez-pavia/
LOCATION:Llibreria Fan Set
CATEGORIES:Literatura
ATTACH;FMTTYPE=image/jpeg:https://octubre.cat/www/wp-content/uploads/2020/07/activitat3264.jpg
END:VEVENT
END:VCALENDAR