BEGIN:VCALENDAR
VERSION:2.0
PRODID:-//Octubre Centre de Cultura Contemporània - ECPv5.1.6//NONSGML v1.0//EN
CALSCALE:GREGORIAN
METHOD:PUBLISH
X-WR-CALNAME:Octubre Centre de Cultura Contemporània
X-ORIGINAL-URL:https://octubre.cat
X-WR-CALDESC:Events for Octubre Centre de Cultura Contemporània
BEGIN:VTIMEZONE
TZID:Europe/Andorra
BEGIN:DAYLIGHT
TZOFFSETFROM:+0100
TZOFFSETTO:+0200
TZNAME:CEST
DTSTART:20220327T010000
END:DAYLIGHT
BEGIN:STANDARD
TZOFFSETFROM:+0200
TZOFFSETTO:+0100
TZNAME:CET
DTSTART:20221030T010000
END:STANDARD
END:VTIMEZONE
BEGIN:VEVENT
DTSTART;TZID=Europe/Andorra:20220601T190000
DTEND;TZID=Europe/Andorra:20220601T190000
DTSTAMP:20260420T181203
CREATED:20220331T153335Z
LAST-MODIFIED:20250629T101706Z
UID:18077-1654110000-1654110000@octubre.cat
SUMMARY:Presentació del llibre Si un dit assenyala la lluna\, de Toni Pou
DESCRIPTION:I una conversa sobre literatura i ciència a càrrec de \n—Toni Pou\, periodista del diari Ara i autor del llibre\n—Lucia Sapiña\, Observatori de les Dues Cultures\, revista Mètode\n—Martí Domínguez\, professor de periodisme a la Universitat de València\, membre de l’IEC\, director de la revista Mètode \n  \n \n  \nUn dia de fa uns quants anys\, el narrador d’aquest llibre va veure un vídeo a YouTube que el va espe­ronar a emprendre un viatge que el duria primer a Florència i més tard al desert xilè d’Atacama. Al vídeo\, Italo Calvino\, autor de Per què llegir els clàssics i ell mateix un dels escriptors més impor­tants del segle XX\, hi deia\, sense cap ombra de dubte\, que Galileu era el més gran prosista de la llengua italiana. Per què un home de lletres com Calvino professava tanta admiració literària per un home de ciència com Galileu? Què és el que comparteixen l’un i l’altre\, malgrat la rígida sepa­ració del saber en ciències i lletres? \n(Anagrama)
URL:https://octubre.cat/activitat/presentacio-del-llibre-si-un-dit-assenyala-la-lluna-de-toni-pou/
LOCATION:Aula 1
CATEGORIES:Espai Ciència
ATTACH;FMTTYPE=image/jpeg:https://octubre.cat/www/wp-content/uploads/2022/03/toni-pou.jpg
END:VEVENT
END:VCALENDAR