BEGIN:VCALENDAR
VERSION:2.0
PRODID:-//Octubre Centre de Cultura Contemporània - ECPv5.1.6//NONSGML v1.0//EN
CALSCALE:GREGORIAN
METHOD:PUBLISH
X-WR-CALNAME:Octubre Centre de Cultura Contemporània
X-ORIGINAL-URL:https://octubre.cat
X-WR-CALDESC:Events for Octubre Centre de Cultura Contemporània
BEGIN:VTIMEZONE
TZID:Europe/Andorra
BEGIN:DAYLIGHT
TZOFFSETFROM:+0100
TZOFFSETTO:+0200
TZNAME:CEST
DTSTART:20150329T010000
END:DAYLIGHT
BEGIN:STANDARD
TZOFFSETFROM:+0200
TZOFFSETTO:+0100
TZNAME:CET
DTSTART:20151025T010000
END:STANDARD
END:VTIMEZONE
BEGIN:VEVENT
DTSTART;TZID=Europe/Andorra:20151104T190000
DTEND;TZID=Europe/Andorra:20151104T190000
DTSTAMP:20260422T170258
CREATED:20200729T171338Z
LAST-MODIFIED:20200730T041546Z
UID:10344-1446663600-1446663600@octubre.cat
SUMMARY:Presentació del llibre 'Si esperes un miracle'\, d'Àngel Moreno
DESCRIPTION:Dimecres 4 de novembre a les 19.00h\, a la llibreria 3i4  \n  \n  \n\n (Ed. Neopàtria)  Intervindran en la presentació: –Anna Devís (directora del dep. de Didàctica de la Llengua de la UV) –Xavier Hervàs (professor de llengua i literatura) –Bernat Nogués (regidor de cultura de Carlet) –Josep Marí (actor i regidor de cultura d’Alfara del Patriarca) –Lola Moltó (actriu) –Imma Bellver professora i rapsoda) Amb la col·laboració de Pepa Caballero i Maria Josep Hernandorena.   “El poeta de Carlet (Ribera Alta) Àngel Martínez Moreno\, creu que sí que hi ha miracles i que es produïxen d’una manera espontània\, però no són miracles fabricats davant d’una demanda concreta en un moment concret de les nostres vides. Els miracles de què ens parla Martínez Moreno en el seu llibre Si esperes un miracle (Editorial Neopàtria\, 2015) són aquells que d’una manera natural apareixen per a modificar el curs previsible dels esdeveniments i que incorporen el caos a la vida de tots. Són com els petits canvis de vent que li donen al nostre navegar color\, intensitat\, emoció i fins i tot un canvi de rumb que ens fa arribar a altres destinacions.” (text de Manel Alonso)
URL:https://octubre.cat/activitat/presentacio-del-llibre-si-esperes-un-miracle-dangel-moreno/
LOCATION:Llibreria 3i4
CATEGORIES:Literatura
ATTACH;FMTTYPE=image/jpeg:https://octubre.cat/www/wp-content/uploads/2020/07/activitat2416.jpg
END:VEVENT
END:VCALENDAR