BEGIN:VCALENDAR
VERSION:2.0
PRODID:-//Octubre Centre de Cultura Contemporània - ECPv5.1.6//NONSGML v1.0//EN
CALSCALE:GREGORIAN
METHOD:PUBLISH
X-WR-CALNAME:Octubre Centre de Cultura Contemporània
X-ORIGINAL-URL:https://octubre.cat
X-WR-CALDESC:Events for Octubre Centre de Cultura Contemporània
BEGIN:VTIMEZONE
TZID:Europe/Andorra
BEGIN:DAYLIGHT
TZOFFSETFROM:+0100
TZOFFSETTO:+0200
TZNAME:CEST
DTSTART:20190331T010000
END:DAYLIGHT
BEGIN:STANDARD
TZOFFSETFROM:+0200
TZOFFSETTO:+0100
TZNAME:CET
DTSTART:20191027T010000
END:STANDARD
END:VTIMEZONE
BEGIN:VEVENT
DTSTART;TZID=Europe/Andorra:20190321T190000
DTEND;TZID=Europe/Andorra:20190321T190000
DTSTAMP:20260421T212812
CREATED:20200729T173322Z
LAST-MODIFIED:20200729T191101Z
UID:11389-1553194800-1553194800@octubre.cat
SUMMARY:Presentació del llibre "Serem Atlàntida"\, de Joan Benesiu
DESCRIPTION:Dijous 21 de març a les 19.00h. Amb l’autor acompanyat per Octavi Monsonís.	 \n  \n  \n\n 	 Amb l’autor acompanyat per Octavi Monsonís.  Som simples observadors d’un simulacre creat per guiar-nos durant la nostra existència? Aquesta és la pregunta que es planteja el nostre narrador quan coneix Mirko Bevilacqua\, un home extravagant i procliu a trobar-se de manera intermitent i clandestina amb Clara\, una jove que té cura d’una vella i elegant dama croata. La coneixença d’aquesta enigmàtica tríada submergeix el lector en una recerca atzarosa sobre l’autenticitat que el portarà a trepitjar els territoris de l’antiga Europa\, on els espais de memòria resisteixen per no convertir-se en escenaris de la societat de l’espectacle.  (Periscopi)
URL:https://octubre.cat/activitat/presentacio-del-llibre-serem-atlantida-de-joan-benesiu/
LOCATION:Llibreria Fan Set
CATEGORIES:Literatura
ATTACH;FMTTYPE=image/jpeg:https://octubre.cat/www/wp-content/uploads/2020/07/activitat3234.jpg
END:VEVENT
END:VCALENDAR