BEGIN:VCALENDAR
VERSION:2.0
PRODID:-//Octubre Centre de Cultura Contemporània - ECPv5.1.6//NONSGML v1.0//EN
CALSCALE:GREGORIAN
METHOD:PUBLISH
X-WR-CALNAME:Octubre Centre de Cultura Contemporània
X-ORIGINAL-URL:https://octubre.cat
X-WR-CALDESC:Events for Octubre Centre de Cultura Contemporània
BEGIN:VTIMEZONE
TZID:Europe/Andorra
BEGIN:DAYLIGHT
TZOFFSETFROM:+0100
TZOFFSETTO:+0200
TZNAME:CEST
DTSTART:20150329T010000
END:DAYLIGHT
BEGIN:STANDARD
TZOFFSETFROM:+0200
TZOFFSETTO:+0100
TZNAME:CET
DTSTART:20151025T010000
END:STANDARD
END:VTIMEZONE
BEGIN:VEVENT
DTSTART;TZID=Europe/Andorra:20150609T190000
DTEND;TZID=Europe/Andorra:20150609T190000
DTSTAMP:20260421T182150
CREATED:20200729T171134Z
LAST-MODIFIED:20200730T041455Z
UID:10215-1433876400-1433876400@octubre.cat
SUMMARY:Presentació del llibre 'Santuaris'\, d'Imma López
DESCRIPTION:Dimarts 9 de juny a les 19.00h. A càrrec de Josep Ballester i Manel Rodríguez Castelló. Amb música de Domènec Hurtado  \n  \n  \n\n XXXII Premi Manuel Rodríguez Martínez Ciutat d’Alcoi (Denes editorial)  Amb Josep Ballester i Manel Rodríguez Castelló. Intervenció musical de Domènec Hurtado (oboè)\, amb peces de les Metamorphoses de Britten.  Imma López (Llanera de Ranes\, 1962) ha estat inclosa en les antologies Màtria. Noves veus poètiques dels Països Catalans (Alzira\, 2013)\, Polimnia 2003-2013. Diez años de poesía en la Universitat Politècnica de València (València\, 2014) i Mare Omnium. Antologia bilingüe il·lustrada catalano-portuguesa (Ocaña\, 2015). Santuaris (Paiporta\, 2015) és el seu primer llibre publicat en solitari.
URL:https://octubre.cat/activitat/presentacio-del-llibre-santuaris-dimma-lopez/
LOCATION:Llibreria 3i4
CATEGORIES:Literatura
ATTACH;FMTTYPE=image/jpeg:https://octubre.cat/www/wp-content/uploads/2020/07/activitat2346.jpg
END:VEVENT
END:VCALENDAR