BEGIN:VCALENDAR
VERSION:2.0
PRODID:-//Octubre Centre de Cultura Contemporània - ECPv5.1.6//NONSGML v1.0//EN
CALSCALE:GREGORIAN
METHOD:PUBLISH
X-WR-CALNAME:Octubre Centre de Cultura Contemporània
X-ORIGINAL-URL:https://octubre.cat
X-WR-CALDESC:Events for Octubre Centre de Cultura Contemporània
BEGIN:VTIMEZONE
TZID:Europe/Andorra
BEGIN:DAYLIGHT
TZOFFSETFROM:+0100
TZOFFSETTO:+0200
TZNAME:CEST
DTSTART:20250330T010000
END:DAYLIGHT
BEGIN:STANDARD
TZOFFSETFROM:+0200
TZOFFSETTO:+0100
TZNAME:CET
DTSTART:20251026T010000
END:STANDARD
END:VTIMEZONE
BEGIN:VEVENT
DTSTART;TZID=Europe/Andorra:20250514T190000
DTEND;TZID=Europe/Andorra:20250514T190000
DTSTAMP:20260421T120731
CREATED:20250306T094353Z
LAST-MODIFIED:20250306T094353Z
UID:22450-1747249200-1747249200@octubre.cat
SUMMARY:Presentació del llibre Salvatge! Poesia completa 1974-2024\, de Joan Navarro
DESCRIPTION:Amb l’autor acompanyat per Pere Císcar\, Vicent Berenguer i Rubén Luzón \nEl poeta i traductor començà la seua obra poètica en els anys setanta del segle XX\, en un context en què les revoltes culturals d’Occident propugnaven un canvi radical que permeteren una transformació social. Amb la seua primera obra Grills esmolen ganivets a trenc de por (1974) Navarro aconseguí el premi de poesia Vicent Andrés Estellés i començà una ampla producció poètica que li va permetre obtindre diversos guardons\, entre altres el premi Carles Salvador\, el de la Crítica dels Escriptors Valencians de poesia\, o l’Ausiàs March de poesia. \nSalvatge! Poesia completa 1974-2024\, amb textos introductoris de Pere Císcar i Jordi Marrugat\, es converteix en la culminació d’una obra poètica que en alguns casos ha estat traduïda a l’alemany\, l’anglès\, el castellà\, l’eslovè\, l’èuscar\, el francès\, l’hebreu\, l’italià\, el japonès i el portugués i que li ha permés a Joan Navarro obtindre un total reconeixement de l’àmbit valencià de la creació poètica. \n  \n \n(Alfons el Magnànim)
URL:https://octubre.cat/activitat/presentacio-del-llibre-salvatge-poesia-completa-1974-2024-de-joan-navarro/
LOCATION:Llibreria Fan Set
CATEGORIES:Literatura
ATTACH;FMTTYPE=image/jpeg:https://octubre.cat/www/wp-content/uploads/2025/03/joan-navarro-red.jpg
END:VEVENT
END:VCALENDAR