BEGIN:VCALENDAR
VERSION:2.0
PRODID:-//Octubre Centre de Cultura Contemporània - ECPv5.1.6//NONSGML v1.0//EN
CALSCALE:GREGORIAN
METHOD:PUBLISH
X-WR-CALNAME:Octubre Centre de Cultura Contemporània
X-ORIGINAL-URL:https://octubre.cat
X-WR-CALDESC:Events for Octubre Centre de Cultura Contemporània
BEGIN:VTIMEZONE
TZID:Europe/Andorra
BEGIN:DAYLIGHT
TZOFFSETFROM:+0100
TZOFFSETTO:+0200
TZNAME:CEST
DTSTART:20150329T010000
END:DAYLIGHT
BEGIN:STANDARD
TZOFFSETFROM:+0200
TZOFFSETTO:+0100
TZNAME:CET
DTSTART:20151025T010000
END:STANDARD
END:VTIMEZONE
BEGIN:VEVENT
DTSTART;TZID=Europe/Andorra:20151014T190000
DTEND;TZID=Europe/Andorra:20151014T190000
DTSTAMP:20260421T195446
CREATED:20200729T171252Z
LAST-MODIFIED:20200730T041527Z
UID:10295-1444849200-1444849200@octubre.cat
SUMMARY:Presentació del llibre 'Resurrecció i mort de GT'\, de Josep Lluís Roig
DESCRIPTION:Dimecres 14 d’octubre a les 19.00h\, a la llibreria 3i4. Amb l’autor\, Juli Alandes i Laia Climent.  \n  \n  \n\n Premi Ciutat de Vila-real (Edicions 3i4). La presentació anirà a càrrec de l’escriptor Juli Alandes i de l’editora Laia Climent.  A Noruega\, una dona de cent anys és assassinada. Però la investigació\, amb un inspector exalcohòlic i acabat d’enamorar\, ens conduirà cap al passat\, cap a la Guerra Civil espanyola\, i cap a les poblacions d’Alcoi\, Benidorm\, Oliva i Terrassa\, en un seguit de pistes poc precises que\, potser\, acaben encaixant. Així\, res no és senzill en una trama on el passat aplega fins al present\, sense bons ni dolents\, amb realisme però també amb esperança i amb tot de fets històrics i personatges reals que es mesclen amb la ficció per a mostrar-nos que el bé i el mal sobreviuen al pas del temps.
URL:https://octubre.cat/activitat/presentacio-del-llibre-resurreccio-i-mort-de-gt-de-josep-lluis-roig/
LOCATION:Llibreria 3i4
CATEGORIES:Literatura
ATTACH;FMTTYPE=image/jpeg:https://octubre.cat/www/wp-content/uploads/2020/07/activitat2388.jpg
END:VEVENT
END:VCALENDAR