BEGIN:VCALENDAR
VERSION:2.0
PRODID:-//Octubre Centre de Cultura Contemporània - ECPv5.1.6//NONSGML v1.0//EN
CALSCALE:GREGORIAN
METHOD:PUBLISH
X-WR-CALNAME:Octubre Centre de Cultura Contemporània
X-ORIGINAL-URL:https://octubre.cat
X-WR-CALDESC:Events for Octubre Centre de Cultura Contemporània
BEGIN:VTIMEZONE
TZID:Europe/Andorra
BEGIN:DAYLIGHT
TZOFFSETFROM:+0100
TZOFFSETTO:+0200
TZNAME:CEST
DTSTART:20140330T010000
END:DAYLIGHT
BEGIN:STANDARD
TZOFFSETFROM:+0200
TZOFFSETTO:+0100
TZNAME:CET
DTSTART:20141026T010000
END:STANDARD
END:VTIMEZONE
BEGIN:VEVENT
DTSTART;TZID=Europe/Andorra:20141001T190000
DTEND;TZID=Europe/Andorra:20141001T190000
DTSTAMP:20260421T153619
CREATED:20200729T170619Z
LAST-MODIFIED:20200730T041214Z
UID:9873-1412190000-1412190000@octubre.cat
SUMMARY:Presentació del llibre 'Ramon Berenguer IV'\, de David Garrido
DESCRIPTION:Dimecres 1 d’octubre a les 19.00h. A la llibreria 3i4. La presentació anirà a càrrec de Rafael Català (editor)  \n  \n  \n\n (Dalmau Editor)  La presentació anirà a càrrec de Rafael Català (editor)  Ramon Berenguer IV (1113/14-1162)\, comte de Barcelona i príncep d’Aragó. La biografia d’aquest sobirà català del segle XII\, sorprenentment\, encara estava per fer. Ramon Berenguer IV és sens dubte un dels homenots més remarcables de la història dels catalans: el fundador de l’estat català medieval compartit amb els aragonesos (la Corona Aragonum et Cataloniae) i el conqueridor de les ciutats de Tortosa i Lleida\, amb les quals va deixar gairebé perfilats els límits geogràfics de la Catalunya estricta\, és adir\, el Principat\, incloses les terres nord-catalanes de la Cerdanya\, el Conflent\, el Vallespir\, i fins i tot les occitàniques de la Fenolleda\, el Perapertusès i el Donasà.
URL:https://octubre.cat/activitat/presentacio-del-llibre-ramon-berenguer-iv-de-david-garrido/
LOCATION:Llibreria 3i4
CATEGORIES:Literatura
ATTACH;FMTTYPE=image/jpeg:https://octubre.cat/www/wp-content/uploads/2020/07/activitat2132.jpg
END:VEVENT
END:VCALENDAR