BEGIN:VCALENDAR
VERSION:2.0
PRODID:-//Octubre Centre de Cultura Contemporània - ECPv5.1.6//NONSGML v1.0//EN
CALSCALE:GREGORIAN
METHOD:PUBLISH
X-WR-CALNAME:Octubre Centre de Cultura Contemporània
X-ORIGINAL-URL:https://octubre.cat
X-WR-CALDESC:Events for Octubre Centre de Cultura Contemporània
BEGIN:VTIMEZONE
TZID:Europe/Andorra
BEGIN:DAYLIGHT
TZOFFSETFROM:+0100
TZOFFSETTO:+0200
TZNAME:CEST
DTSTART:20170326T010000
END:DAYLIGHT
BEGIN:STANDARD
TZOFFSETFROM:+0200
TZOFFSETTO:+0100
TZNAME:CET
DTSTART:20171029T010000
END:STANDARD
END:VTIMEZONE
BEGIN:VEVENT
DTSTART;TZID=Europe/Andorra:20171006T190000
DTEND;TZID=Europe/Andorra:20171006T190000
DTSTAMP:20260420T182849
CREATED:20200729T172714Z
LAST-MODIFIED:20200729T185912Z
UID:11215-1507316400-1507316400@octubre.cat
SUMMARY:Presentació del llibre 'Quadern de l'Europa trista'\, de Jordi Sebastià
DESCRIPTION:Divendres 6 d’octubre a les 19.00h. La presentació anirà a càrrec de Joan Baldoví.  \n  \n  \n\n La presentació anirà a càrrec de Joan Baldoví\, diputat per Compromís al parlament espanyol.  El paper de la Unió Europea ha estat qüestionat al llarg d’aquests últims anys. L’anomenada crisi dels refugiats i el Brexit són alguns dels temes que n’han sotraguejat la credibilitat. El Tractat de Roma pareix haver quedat obsolet i el fragmentarisme al vell continent és cada vegada més evident. Quin paper han d’exercir a partir d’ara les institucions europees? Com han d’actuar davant dels reptes que se’ls presenten?  (Bromera)
URL:https://octubre.cat/activitat/presentacio-del-llibre-quadern-de-leuropa-trista-de-jordi-sebastia/
LOCATION:Llibreria Fan Set
CATEGORIES:Literatura
ATTACH;FMTTYPE=image/jpeg:https://octubre.cat/www/wp-content/uploads/2020/07/activitat2883.jpg
END:VEVENT
END:VCALENDAR