BEGIN:VCALENDAR
VERSION:2.0
PRODID:-//Octubre Centre de Cultura Contemporània - ECPv5.1.6//NONSGML v1.0//EN
CALSCALE:GREGORIAN
METHOD:PUBLISH
X-WR-CALNAME:Octubre Centre de Cultura Contemporània
X-ORIGINAL-URL:https://octubre.cat
X-WR-CALDESC:Events for Octubre Centre de Cultura Contemporània
BEGIN:VTIMEZONE
TZID:Europe/Andorra
BEGIN:DAYLIGHT
TZOFFSETFROM:+0100
TZOFFSETTO:+0200
TZNAME:CEST
DTSTART:20130331T010000
END:DAYLIGHT
BEGIN:STANDARD
TZOFFSETFROM:+0200
TZOFFSETTO:+0100
TZNAME:CET
DTSTART:20131027T010000
END:STANDARD
END:VTIMEZONE
BEGIN:VEVENT
DTSTART;TZID=Europe/Andorra:20131004T190000
DTEND;TZID=Europe/Andorra:20131004T190000
DTSTAMP:20260421T014623
CREATED:20200729T170142Z
LAST-MODIFIED:20200729T184208Z
UID:9596-1380913200-1380913200@octubre.cat
SUMMARY:Presentació del llibre 'Punta Galera'\, de Nora Albert
DESCRIPTION:Divendres 4 d’octubre a les 19.00h\, amb l’autora\, Isabel Robles i Jaume Pérez Montaner  \n  \n  \n\n (Curbet Edicions)  Amb l’autora\, Isabel Robles i Jaume Pérez Muntaner
URL:https://octubre.cat/activitat/presentacio-del-llibre-punta-galera-de-nora-albert/
LOCATION:Llibreria 3i4
CATEGORIES:Literatura
ATTACH;FMTTYPE=image/jpeg:https://octubre.cat/www/wp-content/uploads/2020/07/activitat1859.jpg
END:VEVENT
END:VCALENDAR