BEGIN:VCALENDAR
VERSION:2.0
PRODID:-//Octubre Centre de Cultura Contemporània - ECPv5.1.6//NONSGML v1.0//EN
CALSCALE:GREGORIAN
METHOD:PUBLISH
X-WR-CALNAME:Octubre Centre de Cultura Contemporània
X-ORIGINAL-URL:https://octubre.cat
X-WR-CALDESC:Events for Octubre Centre de Cultura Contemporània
BEGIN:VTIMEZONE
TZID:Europe/Andorra
BEGIN:DAYLIGHT
TZOFFSETFROM:+0100
TZOFFSETTO:+0200
TZNAME:CEST
DTSTART:20190331T010000
END:DAYLIGHT
BEGIN:STANDARD
TZOFFSETFROM:+0200
TZOFFSETTO:+0100
TZNAME:CET
DTSTART:20191027T010000
END:STANDARD
END:VTIMEZONE
BEGIN:VEVENT
DTSTART;TZID=Europe/Andorra:20190515T190000
DTEND;TZID=Europe/Andorra:20190515T190000
DTSTAMP:20260421T120455
CREATED:20200729T173347Z
LAST-MODIFIED:20200729T191122Z
UID:11415-1557946800-1557946800@octubre.cat
SUMMARY:Presentació del llibre "Promeses que no podrem complir"\, de Josep Lluís Roig
DESCRIPTION:Dimecres 15 de maig a les 19.00h. Amb l’autor acompanyat per Juli Alandes\, Beatriu Palmer i Manolo Gil.	 \n  \n  \n\n 	 Premi de novel·la negra Teodor Llorente de la Pobla de Vallbona  Amb Juli Alandes\, escriptor; Beatriu Palmero\, regidora de Cultura de La Pobla de Vallbona; Manolo Gil\, editor.  Tot comença quan un grup d’extrema dreta noruec rapta una jove valenciana a Suècia. Els amics recorren al detectiu Guro Tangvald\, que treballa al Consolat de Noruega a Benidorm. A partir d’aquest moment l’acció es dispara\, sense deixar respirar el lector. Tots els elements de la novel·la negra es condensen en un primer final dramàtic que no tanca l’obra sinó que obrirà nous camins inesperats\, perquè en aquesta novel·la res no és com pareix i\, fins al final\, no pots creure res del que et conten.  (Vincle)
URL:https://octubre.cat/activitat/presentacio-del-llibre-promeses-que-no-podrem-complir-de-josep-lluis-roig/
LOCATION:Llibreria Fan Set
CATEGORIES:Literatura
ATTACH;FMTTYPE=image/jpeg:https://octubre.cat/www/wp-content/uploads/2020/07/activitat3260.jpg
END:VEVENT
END:VCALENDAR