BEGIN:VCALENDAR
VERSION:2.0
PRODID:-//Octubre Centre de Cultura Contemporània - ECPv5.1.6//NONSGML v1.0//EN
CALSCALE:GREGORIAN
METHOD:PUBLISH
X-WR-CALNAME:Octubre Centre de Cultura Contemporània
X-ORIGINAL-URL:https://octubre.cat
X-WR-CALDESC:Events for Octubre Centre de Cultura Contemporània
BEGIN:VTIMEZONE
TZID:Europe/Andorra
BEGIN:DAYLIGHT
TZOFFSETFROM:+0100
TZOFFSETTO:+0200
TZNAME:CEST
DTSTART:20200329T010000
END:DAYLIGHT
BEGIN:STANDARD
TZOFFSETFROM:+0200
TZOFFSETTO:+0100
TZNAME:CET
DTSTART:20201025T010000
END:STANDARD
END:VTIMEZONE
BEGIN:VEVENT
DTSTART;TZID=Europe/Andorra:20201222T190000
DTEND;TZID=Europe/Andorra:20201222T190000
DTSTAMP:20260421T152013
CREATED:20201113T165758Z
LAST-MODIFIED:20201125T172812Z
UID:15550-1608663600-1608663600@octubre.cat
SUMMARY:Presentació del llibre Pot ser de veres i no haver passat mai\, de Pepiu de Castellar
DESCRIPTION:Amb l’autor acompanyat per Juanjo Prats i Manolo Gil. \nAmb un humor surrealista que barreja el Jeeves de P.G. Wodehouse\, el Tristam Shandy de Laurence Sterne\, l’Ignatius de John Kennedy Toole\, la Vicenteta de Bernat i Baldoví i la Divine de la pel·lícula Pink Flamingos de John Waters\, Pepiu ens narra diversos episodis de la seua vida que ben bé poden ser de veres i no haver passat mai. “Llegir Pepiu és com collir carxofes en un camp que no és teu”\, la güela Campanera dixit. Novel·la d’humor\, crònica social del Vanity Fair\, deliri inclassificable o manual de filosofia existencialista\, corrent del partidor de la sèquia del Tremolar de Castellar. Tot pot ser o pot no ser. L’única cosa garantida són les rialles terapèutiques que provoca aquest Falstaff valencià. \n \n(Vincle)
URL:https://octubre.cat/activitat/presentacio-del-llibre-pot-ser-de-veres-i-no-haver-passat-mai-de-pepiu-de-castellar/
LOCATION:Llibreria Fan Set
CATEGORIES:Literatura
ATTACH;FMTTYPE=image/jpeg:https://octubre.cat/www/wp-content/uploads/2020/11/pepiu.jpg
END:VEVENT
END:VCALENDAR