BEGIN:VCALENDAR
VERSION:2.0
PRODID:-//Octubre Centre de Cultura Contemporània - ECPv5.1.6//NONSGML v1.0//EN
CALSCALE:GREGORIAN
METHOD:PUBLISH
X-WR-CALNAME:Octubre Centre de Cultura Contemporània
X-ORIGINAL-URL:https://octubre.cat
X-WR-CALDESC:Events for Octubre Centre de Cultura Contemporània
BEGIN:VTIMEZONE
TZID:Europe/Andorra
BEGIN:DAYLIGHT
TZOFFSETFROM:+0100
TZOFFSETTO:+0200
TZNAME:CEST
DTSTART:20160327T010000
END:DAYLIGHT
BEGIN:STANDARD
TZOFFSETFROM:+0200
TZOFFSETTO:+0100
TZNAME:CET
DTSTART:20161030T010000
END:STANDARD
END:VTIMEZONE
BEGIN:VEVENT
DTSTART;TZID=Europe/Andorra:20161103T190000
DTEND;TZID=Europe/Andorra:20161103T190000
DTSTAMP:20260421T033009
CREATED:20200729T172132Z
LAST-MODIFIED:20200729T185631Z
UID:10851-1478199600-1478199600@octubre.cat
SUMMARY:Presentació del llibre 'Poesia digital'\, d'Oreto Doménech
DESCRIPTION:Dijous 3 de novembre\, a les 19.00h\, a la llibreria Fan Set. L’autora estarà acompanyada per Laura Borràs i Carme Manuel.  \n  \n  \n\n (PUV)  La presentació anirà a càrrec de Laura Borràs\, directora de la Institució de les Lletres Catalanes\, i Carme Manuel\, directora de la Biblioteca Javier Coy d’Estudis Nord-americans   Versos que formen un vitrall poètic de paraules. Un diàleg en transformació entre un poema\, un lector i una màquina. La poesia digital situa el lector en disposició de descobrir imatges escrites\, estrofes dibuixades\, estructures fetes de fragments\, xarxes de sentits\, espais de significat. La tecnologia es posa al servei de la literatura. Deena Larsen i Stephanie Strickland són dues poetes nord-americanes que es dediquen a la creació literària des de fa més de vint anys i\, des d’interessos i procedències diferents\, ocupen un espai significatiu en la història del fenomen de la poesia a Internet. La seua obra genera un discurs en paral·lel elaborat des de la pròpia experiència creativa i amerat de la voluntat d’explicar allò que un més s’estima. Us convidem a conèixer l’espai digital literari on viu la poesia electrònica\, que és poesia de veritat.
URL:https://octubre.cat/activitat/presentacio-del-llibre-poesia-digital-doreto-domenech/
LOCATION:Llibreria 3i4
CATEGORIES:Literatura
ATTACH;FMTTYPE=image/jpeg:https://octubre.cat/www/wp-content/uploads/2020/07/activitat2685.jpg
END:VEVENT
END:VCALENDAR