BEGIN:VCALENDAR
VERSION:2.0
PRODID:-//Octubre Centre de Cultura Contemporània - ECPv5.1.6//NONSGML v1.0//EN
CALSCALE:GREGORIAN
METHOD:PUBLISH
X-WR-CALNAME:Octubre Centre de Cultura Contemporània
X-ORIGINAL-URL:https://octubre.cat
X-WR-CALDESC:Events for Octubre Centre de Cultura Contemporània
BEGIN:VTIMEZONE
TZID:Europe/Andorra
BEGIN:DAYLIGHT
TZOFFSETFROM:+0100
TZOFFSETTO:+0200
TZNAME:CEST
DTSTART:20180325T010000
END:DAYLIGHT
BEGIN:STANDARD
TZOFFSETFROM:+0200
TZOFFSETTO:+0100
TZNAME:CET
DTSTART:20181028T010000
END:STANDARD
END:VTIMEZONE
BEGIN:VEVENT
DTSTART;TZID=Europe/Andorra:20180517T190000
DTEND;TZID=Europe/Andorra:20180517T190000
DTSTAMP:20260423T164845
CREATED:20200729T190356Z
LAST-MODIFIED:20200729T190356Z
UID:13385-1526583600-1526583600@octubre.cat
SUMMARY:Presentació del llibre 'Poesia completa'\, d'Orides Fontela
DESCRIPTION:Dijous 17 de maig a les 19.00h\, a la llibreria Fan Set.  \n  \n  \n\n “No tinc res més que la poesia. En aquest sentit\, sóc el propi cor salvatge. Si no fos per la poesia\, jo podria estar en la més pura indigència; ni vosaltres\, ni ningú no em reconeixeria; em moriria sense haver existit. És la meva única esperança de salvació\, perquè descarto la salvació transcendental. La meva poesia se salvarà tota sola si té força per a això. Ella es defensarà tota sola\, cada poema té el seu karma. D’ara endavant\, no tinc ja cap responsabilitat sobre els meus poemes.” Orides Fontela  Pròleg de Veronika Paulics  (Edicions de 1984)
URL:https://octubre.cat/activitat/presentacio-del-llibre-poesia-completa-dorides-fontela/
LOCATION:Llibreria Fan Set
CATEGORIES:Literatura
ATTACH;FMTTYPE=image/jpeg:https://octubre.cat/www/wp-content/uploads/2020/07/activitat3027.jpg
END:VEVENT
END:VCALENDAR