BEGIN:VCALENDAR
VERSION:2.0
PRODID:-//Octubre Centre de Cultura Contemporània - ECPv5.1.6//NONSGML v1.0//EN
CALSCALE:GREGORIAN
METHOD:PUBLISH
X-WR-CALNAME:Octubre Centre de Cultura Contemporània
X-ORIGINAL-URL:https://octubre.cat
X-WR-CALDESC:Events for Octubre Centre de Cultura Contemporània
BEGIN:VTIMEZONE
TZID:Europe/Andorra
BEGIN:DAYLIGHT
TZOFFSETFROM:+0100
TZOFFSETTO:+0200
TZNAME:CEST
DTSTART:20230326T010000
END:DAYLIGHT
BEGIN:STANDARD
TZOFFSETFROM:+0200
TZOFFSETTO:+0100
TZNAME:CET
DTSTART:20231029T010000
END:STANDARD
END:VTIMEZONE
BEGIN:VEVENT
DTSTART;TZID=Europe/Andorra:20230111T190000
DTEND;TZID=Europe/Andorra:20230111T190000
DTSTAMP:20260420T164349
CREATED:20221109T102437Z
LAST-MODIFIED:20250710T081351Z
UID:19016-1673463600-1673463600@octubre.cat
SUMMARY:Presentació del llibre Poemes a Beny\, de Filippo Tommasso Marinetti
DESCRIPTION:A càrrec dels traductors Joan Navarro i Octavi Monsonís i de l’escriptora Begonya Mezquita. \n“Aquests vint poemes d’amor escrits a finals dels anys vint del segle passat i publicats durant els anys setanta\, dues dècades després de la mort del poeta\, són textos que no volen signes de puntuació\, que troben l’ordre estable de la sintaxi en les onomatopeies i els monosíl·labs incisius\, signes gràfics a la manera de línies horitzontals d’un quadre simètric. Traduïts per Joan Navarro i Octavi Monsonís\, són pura joia verbal que no costa de relacionar amb la veu avantguardista de Papasseit\, esperit capdavanter\, sempre prest en el combat amorós.” (Begonya Mezquita) \n  \n \n(La Garúa – Tànit Edicions)
URL:https://octubre.cat/activitat/presentacio-del-llibre-poemes-a-beny-de-filippo-tommasso-marinetti/
LOCATION:Llibreria Fan Set
CATEGORIES:Literatura
ATTACH;FMTTYPE=image/jpeg:https://octubre.cat/www/wp-content/uploads/2022/11/Filippo_Tommaso_Marinetti.jpg
END:VEVENT
END:VCALENDAR