BEGIN:VCALENDAR
VERSION:2.0
PRODID:-//Octubre Centre de Cultura Contemporània - ECPv5.1.6//NONSGML v1.0//EN
CALSCALE:GREGORIAN
METHOD:PUBLISH
X-WR-CALNAME:Octubre Centre de Cultura Contemporània
X-ORIGINAL-URL:https://octubre.cat
X-WR-CALDESC:Events for Octubre Centre de Cultura Contemporània
BEGIN:VTIMEZONE
TZID:Europe/Andorra
BEGIN:DAYLIGHT
TZOFFSETFROM:+0100
TZOFFSETTO:+0200
TZNAME:CEST
DTSTART:20170326T010000
END:DAYLIGHT
BEGIN:STANDARD
TZOFFSETFROM:+0200
TZOFFSETTO:+0100
TZNAME:CET
DTSTART:20171029T010000
END:STANDARD
END:VTIMEZONE
BEGIN:VEVENT
DTSTART;TZID=Europe/Andorra:20170705T193000
DTEND;TZID=Europe/Andorra:20170705T193000
DTSTAMP:20260421T022656
CREATED:20200729T172647Z
LAST-MODIFIED:20200729T185853Z
UID:11189-1499283000-1499283000@octubre.cat
SUMMARY:Presentació del llibre 'Poemas y crónicas sobre una guerra antifascista en España'\, de Nicolás Guillen
DESCRIPTION:Dimecres 5 de juliol a les 19.30h. Acte organitzat per la Fundación Nicolás Guillén i l’Associació Valenciana d’Amistat amb Cuba “José Martí”.  \n  \n  \n\n A càrrec de:  —Nicolás Hernández Guillén\, president de la Fundación Nicolás Guillén —Mabel Arteaga\, cònsol general de Cuba —Rocío Raya Galvín\, presidenta de l’Associació Valenciana d’Amistat amb Cuba “José Martí”  Organitzat per la Fundación Nicolás Guillén i l’Assocació Valenciana d’Amistat amb Cuba “José Martí”
URL:https://octubre.cat/activitat/presentacio-del-llibre-poemas-y-cronicas-sobre-una-guerra-antifascista-en-espana-de-nicolas-guillen/
CATEGORIES:Literatura
ATTACH;FMTTYPE=image/jpeg:https://octubre.cat/www/wp-content/uploads/2020/07/activitat2859.jpg
END:VEVENT
END:VCALENDAR