BEGIN:VCALENDAR
VERSION:2.0
PRODID:-//Octubre Centre de Cultura Contemporània - ECPv5.1.6//NONSGML v1.0//EN
CALSCALE:GREGORIAN
METHOD:PUBLISH
X-WR-CALNAME:Octubre Centre de Cultura Contemporània
X-ORIGINAL-URL:https://octubre.cat
X-WR-CALDESC:Events for Octubre Centre de Cultura Contemporània
BEGIN:VTIMEZONE
TZID:Europe/Andorra
BEGIN:DAYLIGHT
TZOFFSETFROM:+0100
TZOFFSETTO:+0200
TZNAME:CEST
DTSTART:20190331T010000
END:DAYLIGHT
BEGIN:STANDARD
TZOFFSETFROM:+0200
TZOFFSETTO:+0100
TZNAME:CET
DTSTART:20191027T010000
END:STANDARD
END:VTIMEZONE
BEGIN:VEVENT
DTSTART;TZID=Europe/Andorra:20191003T190000
DTEND;TZID=Europe/Andorra:20191003T190000
DTSTAMP:20260423T050532
CREATED:20200729T173441Z
LAST-MODIFIED:20200729T191219Z
UID:11473-1570129200-1570129200@octubre.cat
SUMMARY:Presentació del llibre "Poder contar-ho"\, de Ferran Torrent
DESCRIPTION:Dijous 3 d’octubre a les 19.00h. Amb l’autor acompanyat per Núria Cadenes.	 \n  \n  \n\n 	 Amb l’autor acompanyat per Núria Cadenes.  Una novel·la coral on els personatges habituals tornen trenta-cinc anys enrere\, a les acaballes de 1982 i principis de 1983\, l’època en què el socialistes assoliren el poder a l’Estat espanyol.  A Poder contar-ho\, el periodista Marc Sendra malda per esbrinar com es va organitzar l’insòlit atracament que tingué lloc a la ciutat de València durant la primera mascletà fallera de l’any 83. Un assalt de deu minuts per a saquejar 1.500 milions de pessetes\, que comença a ordir- se des del primer capítol\, amb una trama plena de peripècies que mantenen el suspens fins al final inesperat de les darreres pàgines.  (Columna)
URL:https://octubre.cat/activitat/presentacio-del-llibre-poder-contar-ho-de-ferran-torrent/
LOCATION:Llibreria Fan Set
CATEGORIES:Literatura
ATTACH;FMTTYPE=image/jpeg:https://octubre.cat/www/wp-content/uploads/2020/07/activitat3330.jpg
END:VEVENT
END:VCALENDAR