BEGIN:VCALENDAR
VERSION:2.0
PRODID:-//Octubre Centre de Cultura Contemporània - ECPv5.1.6//NONSGML v1.0//EN
CALSCALE:GREGORIAN
METHOD:PUBLISH
X-WR-CALNAME:Octubre Centre de Cultura Contemporània
X-ORIGINAL-URL:https://octubre.cat
X-WR-CALDESC:Events for Octubre Centre de Cultura Contemporània
BEGIN:VTIMEZONE
TZID:Europe/Andorra
BEGIN:DAYLIGHT
TZOFFSETFROM:+0100
TZOFFSETTO:+0200
TZNAME:CEST
DTSTART:20210328T010000
END:DAYLIGHT
BEGIN:STANDARD
TZOFFSETFROM:+0200
TZOFFSETTO:+0100
TZNAME:CET
DTSTART:20211031T010000
END:STANDARD
END:VTIMEZONE
BEGIN:VEVENT
DTSTART;TZID=Europe/Andorra:20211119T190000
DTEND;TZID=Europe/Andorra:20211119T190000
DTSTAMP:20260420T143931
CREATED:20211110T105136Z
LAST-MODIFIED:20211110T105136Z
UID:17297-1637348400-1637348400@octubre.cat
SUMMARY:Presentació del llibre Piel de alma\, de Josep Checa
DESCRIPTION:Amb l’autor acompanyat per Lola Andrés i Teresa Pascual. \nEdició bilingüe en català i castellà en traducció de Concha García. XXXVIII Premi de Poesia Senyoriu d’Ausiàs March. \n \n(Editorial Cántico)
URL:https://octubre.cat/activitat/presentacio-del-llibre-piel-de-alma-de-josep-checa/
LOCATION:Llibreria Fan Set
CATEGORIES:Literatura
ATTACH;FMTTYPE=image/jpeg:https://octubre.cat/www/wp-content/uploads/2021/11/checa.jpg
END:VEVENT
END:VCALENDAR