BEGIN:VCALENDAR
VERSION:2.0
PRODID:-//Octubre Centre de Cultura Contemporània - ECPv5.1.6//NONSGML v1.0//EN
CALSCALE:GREGORIAN
METHOD:PUBLISH
X-WR-CALNAME:Octubre Centre de Cultura Contemporània
X-ORIGINAL-URL:https://octubre.cat
X-WR-CALDESC:Events for Octubre Centre de Cultura Contemporània
BEGIN:VTIMEZONE
TZID:Europe/Andorra
BEGIN:DAYLIGHT
TZOFFSETFROM:+0100
TZOFFSETTO:+0200
TZNAME:CEST
DTSTART:20090329T010000
END:DAYLIGHT
BEGIN:STANDARD
TZOFFSETFROM:+0200
TZOFFSETTO:+0100
TZNAME:CET
DTSTART:20091025T010000
END:STANDARD
END:VTIMEZONE
BEGIN:VEVENT
DTSTART;TZID=Europe/Andorra:20090220T193000
DTEND;TZID=Europe/Andorra:20090220T193000
DTSTAMP:20260420T132556
CREATED:20200729T182322Z
LAST-MODIFIED:20200729T182322Z
UID:12762-1235158200-1235158200@octubre.cat
SUMMARY:Presentació del llibre 'Per què vivim als afores de la ciutat'
DESCRIPTION:Divendres 20 de febrer\, a les 19.30h: Presentació del llibre de Peter Stamm. Amb la intervenció de Jutta Bauer (il·lustradora) i Rosa Serrano (editora)  \n  \n  \n\nPresentació del llibre de Tàndem edicions Per què vivims als afores de la ciutat de Peter Stamm amb il·lustracions de Jutta Bauer. Hi intervindran l’il·lustradora Jutta Bauer i l’editora Rosa Serrano.
URL:https://octubre.cat/activitat/presentacio-del-llibre-per-que-vivim-als-afores-de-la-ciutat/
LOCATION:No definit
CATEGORIES:Literatura
ATTACH;FMTTYPE=image/jpeg:https://octubre.cat/www/wp-content/uploads/2020/07/activitat787.jpg
END:VEVENT
END:VCALENDAR