BEGIN:VCALENDAR
VERSION:2.0
PRODID:-//Octubre Centre de Cultura Contemporània - ECPv5.1.6//NONSGML v1.0//EN
CALSCALE:GREGORIAN
METHOD:PUBLISH
X-WR-CALNAME:Octubre Centre de Cultura Contemporània
X-ORIGINAL-URL:https://octubre.cat
X-WR-CALDESC:Events for Octubre Centre de Cultura Contemporània
BEGIN:VTIMEZONE
TZID:Europe/Andorra
BEGIN:DAYLIGHT
TZOFFSETFROM:+0100
TZOFFSETTO:+0200
TZNAME:CEST
DTSTART:20240331T010000
END:DAYLIGHT
BEGIN:STANDARD
TZOFFSETFROM:+0200
TZOFFSETTO:+0100
TZNAME:CET
DTSTART:20241027T010000
END:STANDARD
END:VTIMEZONE
BEGIN:VEVENT
DTSTART;TZID=Europe/Andorra:20240216T190000
DTEND;TZID=Europe/Andorra:20240216T190000
DTSTAMP:20260422T000500
CREATED:20240118T165602Z
LAST-MODIFIED:20250710T164204Z
UID:20848-1708110000-1708110000@octubre.cat
SUMMARY:Presentació del llibre  Per què pensem el que pensem?\, de Vicent Botella Soler i Javier López Alós
DESCRIPTION:Manual contra el soroll i la mentida. \nAmb els dos autors acompanyats per Martí Domínguez\, autor del pròleg. \nDes del diàleg entre ciències i humanitats\, aquest llibre convida a un recorregut per alguns dels elements que influeixen la manera en què els éssers humans percebem el món i ens hi comportem\, però que sovint ens passen inadvertits. Aquells pensaments\, inferències i accions que són automàtiques\, i també imperfectes i inconscients. Vicent Botella Soler i Javier López Alós es plantegen aquest llibre com una forma de divulgació crítica per tal de comprendre millor el món en què vivim. Ben mirat\, podem dir que aquest text és una proposta d’alfabetització cognitiva per a una millor vida en comú. \n  \n \n(Lletra Impresa)
URL:https://octubre.cat/activitat/presentacio-del-llibre-per-que-pensem-el-que-pensem-de-vicent-botella-soler-i-javier-lopez-alos/
LOCATION:Llibreria Fan Set
CATEGORIES:Literatura
ATTACH;FMTTYPE=image/jpeg:https://octubre.cat/www/wp-content/uploads/2021/03/llibres.jpg
END:VEVENT
END:VCALENDAR