BEGIN:VCALENDAR
VERSION:2.0
PRODID:-//Octubre Centre de Cultura Contemporània - ECPv5.1.6//NONSGML v1.0//EN
CALSCALE:GREGORIAN
METHOD:PUBLISH
X-WR-CALNAME:Octubre Centre de Cultura Contemporània
X-ORIGINAL-URL:https://octubre.cat
X-WR-CALDESC:Events for Octubre Centre de Cultura Contemporània
BEGIN:VTIMEZONE
TZID:Europe/Andorra
BEGIN:DAYLIGHT
TZOFFSETFROM:+0100
TZOFFSETTO:+0200
TZNAME:CEST
DTSTART:20180325T010000
END:DAYLIGHT
BEGIN:STANDARD
TZOFFSETFROM:+0200
TZOFFSETTO:+0100
TZNAME:CET
DTSTART:20181028T010000
END:STANDARD
END:VTIMEZONE
BEGIN:VEVENT
DTSTART;TZID=Europe/Andorra:20181123T190000
DTEND;TZID=Europe/Andorra:20181123T190000
DTSTAMP:20260421T175036
CREATED:20200729T173206Z
LAST-MODIFIED:20200729T190957Z
UID:11310-1542999600-1542999600@octubre.cat
SUMMARY:Presentació del llibre "Pensar problemáticamente. Ensayo sobre Gilles Deleuze"\, de Julien Canavera
DESCRIPTION:Divendres 23 de novembre a les 19.00h i a la llibreria Fan Set.	 \n  \n  \n\n 	 Aquest llibre està pensat com una introducció al pensament de Gilles Deleuze. Ara bé\, penetrar en -i transitar per- aquest laberint conceptual\, tenint en compte les seues múltiples entrades i galeries\, està lluny de ser una tasca fàcil. I\, tal volta menys si cap\, la de no pedre’s en el seu interior\, sense un fil d’Ariadna que ens indique l’eixida. Per a que el lector desitjós d’explorar l’obra de Deleuze no abandone en l’intent i aconseguesca eixir de l’obra amb visió de conjunt\, l’autor proposa\, conjuminant les valuosíssimes aportacions dels comentaristes del pensador francès\, un línia interpretativa que\, prenent el vitalisme deleuzià com a “punt de partida”\, tracta de fer aflorar el que\, als seus ulls\, constitueix l’arquitectònica de fons del “sistema-Deleuze”. Resulta impossible convertir el pensament en una genuïna força de problematització sense arrancar el desig del seu excercici socialment “reglat i codificat”; doncs\, en última instància\, a què remet el pensament reduït al simple acte de reconèixer (consignes dominants\, valors establerts\, etcètera) si no és al co-relat espiritual d’ “una vida condemnada a produir les condicions restrictives de la supervivència”?   (Alfons el Magnànim)
URL:https://octubre.cat/activitat/presentacio-del-llibre-pensar-problematicamente-ensayo-sobre-gilles-deleuze-de-julien-canavera/
LOCATION:Llibreria Fan Set
CATEGORIES:Literatura
ATTACH;FMTTYPE=image/jpeg:https://octubre.cat/www/wp-content/uploads/2020/07/activitat3149.jpg
END:VEVENT
END:VCALENDAR