BEGIN:VCALENDAR
VERSION:2.0
PRODID:-//Octubre Centre de Cultura Contemporània - ECPv5.1.6//NONSGML v1.0//EN
CALSCALE:GREGORIAN
METHOD:PUBLISH
X-WR-CALNAME:Octubre Centre de Cultura Contemporània
X-ORIGINAL-URL:https://octubre.cat
X-WR-CALDESC:Events for Octubre Centre de Cultura Contemporània
BEGIN:VTIMEZONE
TZID:Europe/Andorra
BEGIN:DAYLIGHT
TZOFFSETFROM:+0100
TZOFFSETTO:+0200
TZNAME:CEST
DTSTART:20220327T010000
END:DAYLIGHT
BEGIN:STANDARD
TZOFFSETFROM:+0200
TZOFFSETTO:+0100
TZNAME:CET
DTSTART:20221030T010000
END:STANDARD
END:VTIMEZONE
BEGIN:VEVENT
DTSTART;TZID=Europe/Andorra:20221117T190000
DTEND;TZID=Europe/Andorra:20221117T190000
DTSTAMP:20260421T210646
CREATED:20221019T155241Z
LAST-MODIFIED:20250625T094015Z
UID:18905-1668711600-1668711600@octubre.cat
SUMMARY:Presentació del llibre Passatge\, de Manel Rodríguez-Castelló
DESCRIPTION:Amb l’autor acompanyat pel poeta Josep Mir \nEncara hi ha un estranyament dels ulls en el viatge\, un univers en blanc on cel\, riu i pedra s’estenen per eixamplar la bastida. El poeta fa recompte d’ecos en les platges del temps\, i no renuncia a cap silenci\, si no és la ventada que mou el gris del roquissar. Ara és l’amplitud dels braços que apamen la casa\, on l’absència encara guarda el seu lloc\, on la terra sap de memòria els noms i les derrotes. Arrels pregones fetes versos ressegueixen una melodia transparent de l’ara i ací\, del lluny i del sempre. Quan encara és temps d’obrir les mans\, el poeta respira l’aire i cull alguna fulla i estampa el signe al full\, aprén de la carícia i el tacte\, construeix el món que llaura l’aigua i desperta el foc que crema. [Begonya Mezquita] \n  \n \n(Edicions del Buc)
URL:https://octubre.cat/activitat/presentacio-del-llibre-passatge-de-manel-rodriguez-castello/
LOCATION:Llibreria Fan Set
CATEGORIES:Literatura
ATTACH;FMTTYPE=image/jpeg:https://octubre.cat/www/wp-content/uploads/2021/03/manel-rodriguez-castello.jpg
END:VEVENT
END:VCALENDAR