BEGIN:VCALENDAR
VERSION:2.0
PRODID:-//Octubre Centre de Cultura Contemporània - ECPv5.1.6//NONSGML v1.0//EN
CALSCALE:GREGORIAN
METHOD:PUBLISH
X-WR-CALNAME:Octubre Centre de Cultura Contemporània
X-ORIGINAL-URL:https://octubre.cat
X-WR-CALDESC:Events for Octubre Centre de Cultura Contemporània
BEGIN:VTIMEZONE
TZID:Europe/Andorra
BEGIN:DAYLIGHT
TZOFFSETFROM:+0100
TZOFFSETTO:+0200
TZNAME:CEST
DTSTART:20190331T010000
END:DAYLIGHT
BEGIN:STANDARD
TZOFFSETFROM:+0200
TZOFFSETTO:+0100
TZNAME:CET
DTSTART:20191027T010000
END:STANDARD
END:VTIMEZONE
BEGIN:VEVENT
DTSTART;TZID=Europe/Andorra:20190522T190000
DTEND;TZID=Europe/Andorra:20190522T190000
DTSTAMP:20260421T121808
CREATED:20200729T173350Z
LAST-MODIFIED:20200729T191125Z
UID:11418-1558551600-1558551600@octubre.cat
SUMMARY:Presentació del llibre "París\, Madrid\, New York: les ciutats de lluny de Josep Pla"\, d'Antoni Martí Monterde
DESCRIPTION:Dimecres 22 de maig a les 19.00h. Premi Joan Fuster d’assaig 2018.	 \n  \n  \n\n 	 Premi Joan Fuster d’assaig 2018.  Què tenen en comú ciutats com París\, Madrid i Nova York? Des del punt de vista de la modernitat\, molt; des del punt de vista de la literatura catalana comparteixen també una idea urbana convertida en relat\, i el seu narrador és Josep Pla. Aquest llibre és una poètica del relat de viatge i de la flânerie en ciutats que no són la pròpia —Girona o Barcelona— de l’autor; i precisament per això ensenyen a caminar de manera diferent a un Pla periodista i memorialista. En moments molt concrets\, els anys vint i els anys cinquanta\, Pla projecta sobre les ciutats visitades una mirada paisatgística\, i en desprèn una poètica de l’escriptura desplaçada\, fins i tot una sociologia de la ciutat\, la pròpia i l’estranya. Dos eixos fonamentals de la poètica d’un dels escriptors europeus més fascinants del segle XX.  (Tres i Quatre)
URL:https://octubre.cat/activitat/presentacio-del-llibre-paris-madrid-new-york-les-ciutats-de-lluny-de-josep-pla-dantoni-marti-monterde/
LOCATION:Llibreria Fan Set
CATEGORIES:Literatura
ATTACH;FMTTYPE=image/jpeg:https://octubre.cat/www/wp-content/uploads/2020/07/activitat3263.jpg
END:VEVENT
END:VCALENDAR