BEGIN:VCALENDAR
VERSION:2.0
PRODID:-//Octubre Centre de Cultura Contemporània - ECPv5.1.6//NONSGML v1.0//EN
CALSCALE:GREGORIAN
METHOD:PUBLISH
X-WR-CALNAME:Octubre Centre de Cultura Contemporània
X-ORIGINAL-URL:https://octubre.cat
X-WR-CALDESC:Events for Octubre Centre de Cultura Contemporània
BEGIN:VTIMEZONE
TZID:Europe/Andorra
BEGIN:DAYLIGHT
TZOFFSETFROM:+0100
TZOFFSETTO:+0200
TZNAME:CEST
DTSTART:20240331T010000
END:DAYLIGHT
BEGIN:STANDARD
TZOFFSETFROM:+0200
TZOFFSETTO:+0100
TZNAME:CET
DTSTART:20241027T010000
END:STANDARD
END:VTIMEZONE
BEGIN:VEVENT
DTSTART;TZID=Europe/Andorra:20240404T190000
DTEND;TZID=Europe/Andorra:20240404T190000
DTSTAMP:20260420T125239
CREATED:20240311T155752Z
LAST-MODIFIED:20250710T164856Z
UID:21051-1712257200-1712257200@octubre.cat
SUMMARY:Presentació del llibre País Valencià. Eixida d’emergència\, de Ricard Chulià
DESCRIPTION:Amb l’autor acompanyat per Josep Escribano\, president d’El Tempir i autor del pròleg. \nEls valencians vivim dos anys menys que els madrilenys\, i ho fem amb menys benestar. Però no és mala sort\, sinó que és el producte del disseny polític i institucional que l’Estat espanyol ens reserva: ser els cambrers dels madrilenys i els geriatres dels nord-europeus. No som els últims en finançament\, inversions o qualsevol altre índex per casualitat. Espanya funciona perfectament amb nosaltres: som la Florida mediterrània. Ens hi conformem? Pertànyer a Espanya ens perjudica seriosament la salut i no és un bon negoci. Ara bé\, no és tampoc una maledicció atàvica: si fóssem un Estat independent\, viuríem millor. Així de simple. I així de complicat. Així d’utòpic? Contra la frustració i la impotència d’una autonomia escanyada i contra la nova Espanya eterna que cavalca envalentida al crit d’«a por ellos»\, aquests papers proposen agafar l’eixida d’emergència per a bastir un projecte sòlid per a un futur millor. \n  \n \n(Afers)
URL:https://octubre.cat/activitat/presentacio-del-llibre-pais-valencia-eixida-demergencia-de-ricard-chulia/
LOCATION:Llibreria Fan Set
CATEGORIES:Literatura
ATTACH;FMTTYPE=image/jpeg:https://octubre.cat/www/wp-content/uploads/2024/03/Ricard-Chulia.jpg
END:VEVENT
END:VCALENDAR