BEGIN:VCALENDAR
VERSION:2.0
PRODID:-//Octubre Centre de Cultura Contemporània - ECPv5.1.6//NONSGML v1.0//EN
CALSCALE:GREGORIAN
METHOD:PUBLISH
X-WR-CALNAME:Octubre Centre de Cultura Contemporània
X-ORIGINAL-URL:https://octubre.cat
X-WR-CALDESC:Events for Octubre Centre de Cultura Contemporània
BEGIN:VTIMEZONE
TZID:Europe/Andorra
BEGIN:DAYLIGHT
TZOFFSETFROM:+0100
TZOFFSETTO:+0200
TZNAME:CEST
DTSTART:20220327T010000
END:DAYLIGHT
BEGIN:STANDARD
TZOFFSETFROM:+0200
TZOFFSETTO:+0100
TZNAME:CET
DTSTART:20221030T010000
END:STANDARD
END:VTIMEZONE
BEGIN:VEVENT
DTSTART;TZID=Europe/Andorra:20220517T190000
DTEND;TZID=Europe/Andorra:20220517T190000
DTSTAMP:20260420T181128
CREATED:20220314T161243Z
LAST-MODIFIED:20250625T092258Z
UID:17986-1652814000-1652814000@octubre.cat
SUMMARY:Presentació del llibre Ossos de sípia\, d'Eugenio Montale
DESCRIPTION:A càrrec de Joan Navarro i Octavi Monsonís (traductors)\, Manuel Rodríguez Castelló i Beppe Fiorelli\, que llegirà en italià poemes de Montale. \nEl vent que s’endinsa en el pomar\, el raig de sol tardà que llisca d’un cel ple de borrallons\, l’aigua límpida entrevista per casualitat entre els pedregams d’un areny\, els matins ancorats com barques en rada\, l’hora en què el rostre més impassible és travessat per una crua ganyota… Montale\, artesà del detall i la concisió\, mestre egregi de la metàfora\, ens suggereix en aquest llibre esplèndid\, reblert d’imatges tan exquisides com aquestes\, les diverses formes de la vida que s’esmicola\, la inconsistència del món en què vivim i la puixança indeleble dels records. I ens permet descobrir\, al mateix temps\, una de les deus principals de la millor poesia italiana de la modernitat. \n  \n \n(Adesiara)
URL:https://octubre.cat/activitat/presentacio-del-llibre-ossos-de-sipia-deugenio-montale/
LOCATION:Llibreria Fan Set
CATEGORIES:Literatura
ATTACH;FMTTYPE=image/webp:https://octubre.cat/www/wp-content/uploads/2022/03/montale.webp
END:VEVENT
END:VCALENDAR