BEGIN:VCALENDAR
VERSION:2.0
PRODID:-//Octubre Centre de Cultura Contemporània - ECPv5.1.6//NONSGML v1.0//EN
CALSCALE:GREGORIAN
METHOD:PUBLISH
X-WR-CALNAME:Octubre Centre de Cultura Contemporània
X-ORIGINAL-URL:https://octubre.cat
X-WR-CALDESC:Events for Octubre Centre de Cultura Contemporània
BEGIN:VTIMEZONE
TZID:Europe/Andorra
BEGIN:DAYLIGHT
TZOFFSETFROM:+0100
TZOFFSETTO:+0200
TZNAME:CEST
DTSTART:20130331T010000
END:DAYLIGHT
BEGIN:STANDARD
TZOFFSETFROM:+0200
TZOFFSETTO:+0100
TZNAME:CET
DTSTART:20131027T010000
END:STANDARD
END:VTIMEZONE
BEGIN:VEVENT
DTSTART;TZID=Europe/Andorra:20130117T190000
DTEND;TZID=Europe/Andorra:20130117T190000
DTSTAMP:20260421T085838
CREATED:20200729T165918Z
LAST-MODIFIED:20200729T184010Z
UID:9463-1358449200-1358449200@octubre.cat
SUMMARY:Presentació del llibre 'Orangetown'\, de Salvador Pons
DESCRIPTION:Dijous 17 de gener a les 19.00h\, presentat per Vicent Salvador  \n  \n  \n\n(Brosquil Edicions)  Presentació a càrrec de Vicent Salvador (catedràtic de Llengua de la Univesitat Jaume I)  L’autor Salvador Pons Bordería és professor de Llengua Espanyola a la Universitat de València. Després d’haver publicat treballs de caràcter científic i d’haver impartit conferències sobre Lingüística a universitats estatals\, europees i americanes\, s’ha decidit a saltar a l’àrea literària amb aquesta\, la seua primera novel·la. Orangetown explora des de la sàtira una de les obsessions de l’autor: contar València i la vida dels habitants que l’ocupen\, la viuen\, la gaudeixen\, la sofreixen i la conformen.  Sinopsi La família Vidal-Monsonís ha estat assassinada. L’assassí confés\, Petre Rumescu\, espera judici. Javier Vázquez\, el seu advocat de torn d’ofici\, pressent que aquest cas li portarà molts problemes. No és d’estranyar si l’acusació particular està formulada pel brillant advocat Tomás Valcárcel\, soci d’un dels principals bufets de la ciutat i antic professor seu en Dret. Tot i que el cas sembla clar\, Javier descobreix una obscura trama urbanística a la qual\, d’alguna manera\, tant la víctima\, com el botxí\, com el bufet Valcárcel semblen estar units. Empresaris de transport\, antics regidors\, falles i una estranya Associació de Romanesos començaran a orbitar al voltant d’una investigació que cada vegada es torna més estranya\, a mesura que progressa\, i al mateix temps que el protagonista comença a ser requerit per l’alta societat valenciana. Orangetown és una farsa amb pell de novel·la negra en la que la principal protagonista\, la ciutat de València\, mostra algunes de les seues múltiples i variades cares. Amb un estil irònic i àgil\, però mediterràniament barroc\, l’autor retrata una València actual\, tot i que de trets constants en el temps.
URL:https://octubre.cat/activitat/presentacio-del-llibre-orangetown-de-salvador-pons/
LOCATION:No definit
CATEGORIES:Literatura
ATTACH;FMTTYPE=image/jpeg:https://octubre.cat/www/wp-content/uploads/2020/07/activitat1713.jpg
END:VEVENT
END:VCALENDAR