BEGIN:VCALENDAR
VERSION:2.0
PRODID:-//Octubre Centre de Cultura Contemporània - ECPv5.1.6//NONSGML v1.0//EN
CALSCALE:GREGORIAN
METHOD:PUBLISH
X-WR-CALNAME:Octubre Centre de Cultura Contemporània
X-ORIGINAL-URL:https://octubre.cat
X-WR-CALDESC:Events for Octubre Centre de Cultura Contemporània
BEGIN:VTIMEZONE
TZID:Europe/Andorra
BEGIN:DAYLIGHT
TZOFFSETFROM:+0100
TZOFFSETTO:+0200
TZNAME:CEST
DTSTART:20170326T010000
END:DAYLIGHT
BEGIN:STANDARD
TZOFFSETFROM:+0200
TZOFFSETTO:+0100
TZNAME:CET
DTSTART:20171029T010000
END:STANDARD
END:VTIMEZONE
BEGIN:VEVENT
DTSTART;TZID=Europe/Andorra:20170519T190000
DTEND;TZID=Europe/Andorra:20170519T190000
DTSTAMP:20260421T195325
CREATED:20200729T172558Z
LAST-MODIFIED:20200729T185828Z
UID:11138-1495220400-1495220400@octubre.cat
SUMMARY:Presentació del llibre 'On la sang'\, de Ricard Garcia
DESCRIPTION:Divendres 19 de maig a les 19.00h. Amb l’autor\, Teresa Pascual i Joan Navarro.  \n  \n  \n\n 19é Premi de Poesia Jaume Bru i Vidal – Ciutat de Sagunt 2016 (Onada Edicions)  Amb l’autor\, Teresa Pascual i Joan Navarro.  On la sang és un llibre on es parla dels fets i els sentiments més extrems de la vida\, aquells que ens alteren les rutines per fer-nos sentir que hi ha forces que de manera imparable ens arrosseguen a tastar les estranyes alquímies de la vida que ens toca viure. S’hi evoquen aquelles coses que ens fan sentir que els desordres vitals no només ens ajuden a vèncer l’atonia dels minuts sinó que ens fan prendre consciència plena d’ésser vius. Per això\, On la sang transita pels desordres naturals de la vida i hi trobareu poemes que van des de la força salvatge de l’erotisme fins a la por de qui se sent extraviat o\, també\, fins a la percepció de la mort com una realitat propera. Tot i així\, goig i dolor no es presenten com a sentiments deslligats\, sinó com a parts indissociables del nostre ésser\, aquest tot on conflueix allò a què al·ludeixen els poemes del llibre: els moments de desordre o de lluita que han traçat cada una de les cicatrius que duem al cos i que són\, alhora\, la nostra història i el nostre present.
URL:https://octubre.cat/activitat/presentacio-del-llibre-on-la-sang-de-ricard-garcia/
LOCATION:Llibreria Fan Set
CATEGORIES:Literatura
ATTACH;FMTTYPE=image/jpeg:https://octubre.cat/www/wp-content/uploads/2020/07/activitat2829.jpg
END:VEVENT
END:VCALENDAR