BEGIN:VCALENDAR
VERSION:2.0
PRODID:-//Octubre Centre de Cultura Contemporània - ECPv5.1.6//NONSGML v1.0//EN
CALSCALE:GREGORIAN
METHOD:PUBLISH
X-WR-CALNAME:Octubre Centre de Cultura Contemporània
X-ORIGINAL-URL:https://octubre.cat
X-WR-CALDESC:Events for Octubre Centre de Cultura Contemporània
BEGIN:VTIMEZONE
TZID:Europe/Andorra
BEGIN:DAYLIGHT
TZOFFSETFROM:+0100
TZOFFSETTO:+0200
TZNAME:CEST
DTSTART:20220327T010000
END:DAYLIGHT
BEGIN:STANDARD
TZOFFSETFROM:+0200
TZOFFSETTO:+0100
TZNAME:CET
DTSTART:20221030T010000
END:STANDARD
END:VTIMEZONE
BEGIN:VEVENT
DTSTART;TZID=Europe/Andorra:20220331T190000
DTEND;TZID=Europe/Andorra:20220331T190000
DTSTAMP:20260420T164253
CREATED:20220223T074629Z
LAST-MODIFIED:20250625T091827Z
UID:17922-1648753200-1648753200@octubre.cat
SUMMARY:Presentació del llibre Obra completa - VIII\, de Vicent Andrés Estellés
DESCRIPTION:Amb Irene Mira\, Jordi Oviedo i Vicent Salvador. \nAquesta Obra Completa -nova edició\, revisada- constitueix un nou projecte d’edició de l’obra estellesiana que conté estudis introductoris\, un treball de reorganització cronològica de les obres i d’edició filològica dels poemes estellesians. El vuitè volum ha estat preparat per Jordi Oviedo i Irene Mira-Navarro\, i inclou els següents poemaris: Puig Antich\, Estat d’excepció\, Versos per acompanyar una esperança\, Al company assassinat a Elda\, Els camins de la llibertat\, Tancat d’Aleixandre\, Quadern públic i notori\, Poemes esparsos\, Poemes preliminars\, Cançoneret de Ripoll\, La casa de la música vora el mar i Mare de terra. \n \n(Edicions Tres i Quatre)
URL:https://octubre.cat/activitat/presentacio-del-llibre-obra-completa-viii-de-vicent-andres-estelles/
LOCATION:Llibreria Fan Set
CATEGORIES:Literatura
ATTACH;FMTTYPE=image/jpeg:https://octubre.cat/www/wp-content/uploads/2021/03/vicent_andres_estelles.jpg
END:VEVENT
END:VCALENDAR